Workbook
Name _Toc327268809: 'BASI ASTA UNITARIE'!#REF!
Name _Toc327268809: 'CALCOLO BASE ASTA'!#REF!
Name _Toc327268809: 'Listini Aggiudicatari'!#REF!
Name _Toc327268810: 'BASI ASTA UNITARIE'!#REF!
Name _Toc327268810: 'CALCOLO BASE ASTA'!#REF!
Name _Toc327268810: 'Listini Aggiudicatari'!#REF!
Name acc_mens: #REF!
Name acc_mens: #REF!
Name acc_mens: #REF!
Name AVG: #REF!
Name AVG: #REF!
Name AVG: #REF!
Name banda: #REF!
Name banda: #REF!
Name banda: #REF!
Name BMA: #REF!
Name BMA: #REF!
Name BMA: #REF!
Name ELM: #REF!
Name ELM: #REF!
Name ELM: #REF!
Name FE_mens: #REF!
Name FE_mens: #REF!
Name FE_mens: #REF!
Name FTP: #REF!
Name FTP: #REF!
Name FTP: #REF!
Name HIDS: #REF!
Name HIDS: #REF!
Name HIDS: #REF!
Name Housing: #REF!
Name Housing: #REF!
Name Housing: #REF!
Name HS: #REF!
Name HS: #REF!
Name HS: #REF!
Name HTTP: #REF!
Name HTTP: #REF!
Name HTTP: #REF!
Name livelli: #REF!
Name livelli: #REF!
Name livelli: #REF!
Name NAT: #REF!
Name NAT: #REF!
Name NAT: #REF!
Name NF: #REF!
Name NF: #REF!
Name NF: #REF!
Name NIDS: #REF!
Name NIDS: #REF!
Name NIDS: #REF!
Name PF: #REF!
Name PF: #REF!
Name PF: #REF!
Name profili: #REF!
Name profili: #REF!
Name profili: #REF!
Name TR_HP: #REF!
Name TR_HP: #REF!
Name TR_HP: #REF!

Sheet Note sull'iniziativa
B2: NOTE GENERALI
D4: Ciascun Ente Aderente all'AQ -che ha fornito i fabbisogni ad InnovaPuglia nel periodo 2015-2016- potrà svolgere appalti specifici (procedure ristrette) per quantitativi complessivi non superiori alle quote prenotate, indicate nel foglio "Massimali Fabbisogni". Quantitativi superiori alle quote prenotate possono essere autorizzati, dopo apposita richiesta, dal Soggetto Aggregatore InnovaPuglia, che provvederà alla loro assegnazione, fatti salvi i quantitativi già prenotati ed in base alla capienza residua dell'Accordo Quadro. Al fine di computare la base d'asta complessiva di ciascun appalto specifico ogni Ente/Amministrazione Appaltante è tenuta ad adottare le basi d'asta unitarie indicate nel foglio "CALCOLO BASE ASTA". Le forniture si riferiscono ai prodotti e servizi così come individuati dagli aggiornamenti tecnici a cura del Gruppo per la qualità delle forniture e dei servizi (GQFS) – di cui all’art.11 comma 5 dell’Accordo Quadro-e ratificati dal Responsabile dell’Esecuzione dell’Accordo Quadro di InnovaPuglia; si intendono corredate dei servizi indicati nell’Allegato 4 – Capitolato Tecnico ed includono, in quantità congrua, i cablaggi indispensabili alla connessione tra le periferiche fornite e le unità centrali e docking station fornite. Dette forniture si intendono eseguite a perfetta regola d’arte e conformemente ai livelli di servizio di cui all’ Allegato 4.1 – Capitolato Tecnico: Livelli di servizio e penali
D5: Per l'indizione delle procedure ristrette, le Stazioni Appaltanti dovranno richiedere all'ANAC e utilizzare un codice identificativo gara (CIG) derivato da quello del presente Accordo Quadro.
D7: Riferimenti di InnovaPuglia
D8: Responsabile Unico del procedimento: ing. Antonio Scaramuzzi E-mail: a.scaramuzzi@innova.puglia.it – tel. 080.4670622 Per informazioni tecniche e gestione delle forniture: Responsabile dell’esecuzione dell’A.Q.: P.I. Giandonato Carulli E-mail: g.carulli@innova.puglia.it – tel. 080.4670322 Per adesioni all’AQ e ulteriori fabbisogni di acquisto: Responsabile Ufficio Procurement Aggregato: dott. Pietro Paolo Liuzzi E-mail: p.liuzzi@innova.puglia.it – tel. 080.4670652 Per supporto tecnico all’indizione delle procedure ristrette Responsabile Ufficio Consulenza PA: dott. Pasquale Lopriore E-mail: p.lopriore@innova.puglia.it – tel. 080.4670599 Guide pratiche per l'utilizzo della piattaforma EmPULIA: http://www.empulia.it/tno-a/empulia/Empulia/SitePages/Guide%20pratiche.aspx
D52: SERVIZI INCLUSI E OPZIONALI
D55: 1.Consegna e installazione delle apparecchiature secondo la tipologia dei prodotti forniti, comprensive di ogni onere relativo ad imballaggio, trasporto, facchinaggio, consegna “al piano”, posa in opera, installazione, messa in esercizio, verifica di funzionalità delle apparecchiature, asporto dell’imballaggio e qualsiasi altra attività ad esse strumentale.
D57: TEMPISTICHE
D75: 2.Assistenza in remoto (Help Desk) e in locale (assistenza on-site)
D76: 3.Garanzia convenzionale
D77: 4.Estensioni di garanzia per alcuni prodotti
D78: 5.Disponibilità ricambistica per 5 anni

Sheet ENTE
A1: SCHEDA ENTE
C6: Denominazione Amministrazione
C9: Nominativo R.U.P. procedura ristretta
C10: Nome
C11: E-Mail
C12: Telefono
C13: Mobile
C14: FAX
B19: NOTE
A32: FABBISOGNI RICHIESTI APPALTO SPECIFICO
A33: Codice | B33: PRODOTTO/SERVIZIO | K33: Q.tà
A35: 1 | B35: Personal Computer Desktop Fascia Alta
B36: Comprende assistenza e manutenzione in garanzia standard della durata di 1 anno da erogarsi “on-site” entro il giorno lavorativo successivo
A37: 1-E | B37: Estensione di ulteriori 2 anni della garanzia standard comprensiva di servizi di assistenza e manutenzione da erogarsi “on-site” entro il giorno lavorativo successivo
A38: 2 | B38: Personal Computer Desktop Fascia Media
B39: Comprende assistenza e manutenzione in garanzia standard della durata di 1 anno da erogarsi “on-site” entro il giorno lavorativo successivo
A40: 2-E | B40: Estensione di ulteriori 2 anni della garanzia standard comprensiva di servizi di assistenza e manutenzione da erogarsi “on-site” entro il giorno lavorativo successivo
A41: 3 | B41: Personal Computer Desktop Fascia Top
B42: Comprende assistenza e manutenzione in garanzia standard della durata di 1 anno da erogarsi “on-site” entro il giorno lavorativo successivo
A43: 3-E | B43: Estensione di ulteriori 2 anni della garanzia standard comprensiva di servizi di assistenza e manutenzione da erogarsi “on-site” entro il giorno lavorativo successivo
A44: 4 | B44: Docking station universale
B45: Comprende garanzia standard della durata di 1 anno
A46: 5 | B46: Etichettatrice equivalente Dymo ricaricabile con borsa e 5 nastri ricambio
B47: Comprende garanzia standard della durata di 1 anno
A48: 6 | B48: Etichettatrice per protocollo informatico
B49: Comprende garanzia standard della durata di 1 anno
A50: 7 | B50: Etichettatrice USB
B51: Comprende garanzia standard della durata di 1 anno
A52: 8 | B52: Fotocamera digitale
B53: Comprende garanzia standard della durata di 1 anno
A54: 9 | B54: Hard Disk esterno con alimentatore
B55: Comprende garanzia standard della durata di 1 anno
A56: 10 | B56: Hard Disk esterno Fascia Alta
B57: Comprende garanzia standard della durata di 1 anno
A58: 11 | B58: Hard Disk esterno Fascia Media
B59: Comprende garanzia standard della durata di 1 anno
A60: 12 | B60: Hard disk ssd 250GB
B61: Comprende garanzia standard della durata di 1 anno
A62: 13 | B62: Monitor per Personal Computer
B63: Comprende garanzia standard della durata di 1 anno
A64: 14 | B64: Notebook con sistema operativo OSX 15"
B65: Comprende assistenza e manutenzione in garanzia standard della durata di 1 anno
A66: 14-E | B66: Estensione di ulteriori 2 anni della garanzia standard comprensiva di servizi di assistenza e manutenzione
A67: 15 | B67: Notebook con sistema operativo OSX 13"
B68: Comprende assistenza e manutenzione in garanzia standard della durata di 1 anno
A69: 15-E | B69: Estensione di ulteriori 2 anni della garanzia standard comprensiva di servizi di assistenza e manutenzione
A70: 16 | B70: Notebook Fascia Alta
B71: Comprende assistenza e manutenzione in garanzia standard della durata di 1 anno da erogarsi “on-site” entro 2 giorni lavorativi successivi
A72: 16-E | B72: Estensione di ulteriori 2 anni della garanzia standard comprensiva di servizi di assistenza e manutenzione da erogarsi “on-site” entro 2 giorni lavorativi successivi
A73: 17 | B73: Notebook fascia bassa
B74: Comprende assistenza e manutenzione in garanzia standard della durata di 1 anno entro il giorno lavorativo successivo dalla consegna
A75: 17-E | B75: Estensione di 1 anno della garanzia standard comprensiva di servizi di assistenza e manutenzione entro il giorno lavorativo successivo dalla consegna
A76: 18 | B76: Notebook Fascia Media
B77: Comprende assistenza e manutenzione in garanzia standard della durata di 1 anno da erogarsi “on-site” entro il giorno lavorativo successivo
A78: 18-E | B78: Estensione di ulteriori 2 anni della garanzia standard comprensiva di servizi di assistenza e manutenzione da erogarsi “on-site” entro il giorno lavorativo successivo
A79: 19 | B79: Notebook Fascia Top
B80: Comprende assistenza e manutenzione in garanzia standard della durata di 1 anno da erogarsi “on-site” entro il giorno lavorativo successivo
A81: 19-E | B81: Estensione di ulteriori 2 anni della garanzia standard comprensiva di servizi di assistenza e manutenzione da erogarsi “on-site” entro il giorno lavorativo successivo
A82: 20 | B82: Personal Computer con sistema operativo OSX e monitor da 21,5"
B83: Comprende assistenza e manutenzione in garanzia standard della durata di 1 anno
A84: 20-E | B84: Estensione di ulteriori 2 anni della garanzia standard comprensiva di servizi di assistenza e manutenzione
A85: 21 | B85: Personal Computer con sistema operativo IOS e schermo da 27"
B86: Comprende assistenza e manutenzione in garanzia standard della durata di 1 anno
A87: 21-E | B87: Estensione di ulteriori 2 anni della garanzia standard comprensiva di servizi di assistenza e manutenzione
A88: 22 | B88: Scanner A4
B89: Comprende assistenza e manutenzione in garanzia standard della durata di 1 anno
A90: 23 | B90: Schermo proiezione
B91: Comprende assistenza e manutenzione in garanzia standard della durata di 1 anno
A92: 24 | B92: Smartphone con sistema operativo Android
B93: Comprende assistenza e manutenzione in garanzia standard della durata di 1 anno
A94: 25 | B94: Smartphone con sistema operativo iOS
B95: Comprende assistenza e manutenzione in garanzia standard della durata di 1 anno
A96: 25-E | B96: Estensione di ulteriori 2 anni della garanzia standard comprensiva di servizi di assistenza e manutenzione, include interventi per danni accidentali
A97: 26 | B97: Smartphone con sistema operativo Windows
B98: Comprende assistenza e manutenzione in garanzia standard della durata di 1 anno
A99: 27 | B99: Staccabile (ultrabook) 12"
B100: Comprende assistenza e manutenzione in garanzia standard della durata di 1 anno
A101: 27-E | B101: Estensione di ulteriori 2 anni della garanzia standard comprensiva di servizi di assistenza e manutenzione
A102: 28 | B102: Stampante A4 b/n f/r (no laser)
B103: Comprende assistenza e manutenzione in garanzia standard della durata di 1 anno da erogarsi “on-site” entro il giorno lavorativo successivo
A104: 28-E | B104: Estensione di ulteriori 2 anni della garanzia standard comprensiva di servizi di assistenza e manutenzione da erogarsi “on-site” entro il giorno lavorativo successivo
A105: 29 | B105: Stampante A4 color laser
B106: Comprende assistenza e manutenzione in garanzia standard della durata di 1 anno entro il giorno lavorativo successivo dalla consegna
A107: 29-E | B107: Estensione di ulteriori 2 anni della garanzia standard comprensiva di servizi di assistenza e manutenzione entro il giorno lavorativo successivo dalla consegna
A108: 30 | B108: Stampante Laser Colori A3 f/r
B109: Comprende assistenza e manutenzione entro il giorno lavorativo successivo in garanzia standard della durata di 1 anno
A110: 30-E | B110: Estensione di ulteriori 3 anni della garanzia standard comprensiva di servizi di assistenza e manutenzione entro il giorno lavorativo successivo dalla consegna
A111: 31 | B111: Stampante laser multifunzione B/N A3
B112: Comprende assistenza e manutenzione in garanzia standard della durata di 1 anno
A113: 32 | B113: Tablet Android
B114: Comprende assistenza e manutenzione in garanzia standard della durata di 1 anno
A115: 33 | B115: Tablet iOS
B116: Comprende assistenza e manutenzione in garanzia standard della durata di 1 anno
A117: 33-E | B117: Estensione di ulteriori 2 anni della garanzia standard comprensiva di servizi di assistenza e manutenzione anche per eventi accidentali
A118: 34 | B118: Videoproiettore per computer
B119: Comprende assistenza e manutenzione in garanzia standard della durata di 1 anno
A120: 35 | B120: Videoproiettore portatile per computer
B121: Comprende assistenza e manutenzione in garanzia standard della durata di 1 anno
A122: 36 | B122: Personal Computer Workstation
B123: Comprende assistenza e manutenzione in garanzia standard della durata di 1 anno da erogarsi “on-site” entro il giorno lavorativo successivo
...

Sheet CALCOLO BASE ASTA
A1: CODICE INTERNO | B1: Prodotti/Servizi | C1: Prezzo unitario | D1: IVA | E1: PREZZO UNITARIO IVA COMPRESA | F1: Quantità Appalto Specifico (inserire quantità) | G1: Basi d'asta (Iva escl.)
A2: 1 | B2: Personal Computer Desktop Fascia Alta | C2: 537.536 | D2: =C2*0.22 -> 118.25792 | E2: =C2+D2 -> 655.79392 | F2: 0 | G2: =F2*'BASI ASTA UNITARIE'!C3 -> 0
A3: 1-E | B3: Estensione di ulteriori 2 anni della garanzia standard | C3: 33.309 | D3: =C3*0.22 -> 7.32798 | E3: =C3+D3 -> 40.63698 | F3: =+ENTE!K37 -> 0 | G3: =F3*'BASI ASTA UNITARIE'!C4 -> 0
A4: 2 | B4: Personal Computer Desktop Fascia Media | C4: 475 | D4: =C4*0.22 -> 104.5 | E4: =C4+D4 -> 579.5 | F4: =+ENTE!K38 -> 0 | G4: =F4*'BASI ASTA UNITARIE'!C5 -> 0
A5: 2-E | B5: Estensione di ulteriori 2 anni della garanzia standard | C5: 33.309 | D5: =C5*0.22 -> 7.32798 | E5: =C5+D5 -> 40.63698 | F5: =+ENTE!K40 -> 0 | G5: =F5*'BASI ASTA UNITARIE'!C6 -> 0
A6: 3 | B6: Personal Computer Desktop Fascia Top | C6: 812.367 | D6: =C6*0.22 -> 178.72074 | E6: =C6+D6 -> 991.08774 | F6: =+ENTE!K41 -> 0 | G6: =F6*'BASI ASTA UNITARIE'!C7 -> 0
A7: 3-E | B7: Estensione di ulteriori 2 anni della garanzia standard | C7: 33.309 | D7: =C7*0.22 -> 7.32798 | E7: =C7+D7 -> 40.63698 | F7: =+ENTE!K43 -> 0 | G7: =F7*'BASI ASTA UNITARIE'!C8 -> 0
A8: 4 | B8: Docking station universale | C8: 158 | D8: =C8*0.22 -> 34.76 | E8: =C8+D8 -> 192.76 | F8: =+ENTE!K44 -> 0 | G8: =F8*'BASI ASTA UNITARIE'!C9 -> 0
A9: 5 | B9: Etichettatrice equivalente Dymo ricaricabile con borsa e 5 nastri ricambio | C9: 177 | D9: =C9*0.22 -> 38.94 | E9: =C9+D9 -> 215.94 | F9: =+ENTE!K46 -> 0 | G9: =F9*'BASI ASTA UNITARIE'!C10 -> 0
A10: 6 | B10: Etichettatrice per protocollo informatico | C10: 177 | D10: =C10*0.22 -> 38.94 | E10: =C10+D10 -> 215.94 | F10: =+ENTE!K48 -> 0 | G10: =F10*'BASI ASTA UNITARIE'!C11 -> 0
A11: 7 | B11: Etichettatrice USB | C11: 177 | D11: =C11*0.22 -> 38.94 | E11: =C11+D11 -> 215.94 | F11: =+ENTE!K50 -> 0 | G11: =F11*'BASI ASTA UNITARIE'!C12 -> 0
A12: 8 | B12: Fotocamera digitale | C12: 539 | D12: =C12*0.22 -> 118.58 | E12: =C12+D12 -> 657.58 | F12: =+ENTE!K52 -> 0 | G12: =F12*'BASI ASTA UNITARIE'!C13 -> 0
A13: 9 | B13: Hard Disk esterno con alimentatore | C13: 182 | D13: =C13*0.22 -> 40.04 | E13: =C13+D13 -> 222.04 | F13: =+ENTE!K54 -> 0 | G13: =F13*'BASI ASTA UNITARIE'!C14 -> 0
A14: 10 | B14: Hard Disk esterno Fascia Alta | C14: 426 | D14: =C14*0.22 -> 93.72 | E14: =C14+D14 -> 519.72 | F14: =+ENTE!K56 -> 0 | G14: =F14*'BASI ASTA UNITARIE'!C15 -> 0
A15: 11 | B15: Hard Disk esterno Fascia Media | C15: 114.56 | D15: =C15*0.22 -> 25.2032 | E15: =C15+D15 -> 139.7632 | F15: =+ENTE!K58 -> 0 | G15: =F15*'BASI ASTA UNITARIE'!C16 -> 0
A16: 12 | B16: Hard disk ssd 250GB | C16: 128 | D16: =C16*0.22 -> 28.16 | E16: =C16+D16 -> 156.16 | F16: =+ENTE!K60 -> 0 | G16: =F16*'BASI ASTA UNITARIE'!C17 -> 0
A17: 13 | B17: Monitor per Personal Computer | C17: 199 | D17: =C17*0.22 -> 43.78 | E17: =C17+D17 -> 242.78 | F17: =+ENTE!K62 -> 0 | G17: =F17*'BASI ASTA UNITARIE'!C18 -> 0
A18: 14 | B18: Notebook con sistema operativo macOS 15" | C18: 3261 | D18: =C18*0.22 -> 717.42 | E18: =C18+D18 -> 3978.42 | F18: =+ENTE!K64 -> 0 | G18: =F18*'BASI ASTA UNITARIE'!C19 -> 0
A19: 14-E | B19: Estensione di ulteriori 2 anni della garanzia standard | C19: 230 | D19: =C19*0.22 -> 50.6 | E19: =C19+D19 -> 280.6 | F19: =+ENTE!K66 -> 0 | G19: =F19*'BASI ASTA UNITARIE'!C20 -> 0
A20: 15 | B20: Notebook con sistema operativo macOS 13" | C20: 2855 | D20: =C20*0.22 -> 628.1 | E20: =C20+D20 -> 3483.1 | F20: =+ENTE!K67 -> 0 | G20: =F20*'BASI ASTA UNITARIE'!C21 -> 0
A21: 15-E | B21: Estensione di ulteriori 2 anni della garanzia standard | C21: 164 | D21: =C21*0.22 -> 36.08 | E21: =C21+D21 -> 200.08 | F21: =+ENTE!K69 -> 0 | G21: =F21*'BASI ASTA UNITARIE'!C22 -> 0
A22: 16 | B22: Notebook Fascia Alta | C22: 2478 | D22: =C22*0.22 -> 545.16 | E22: =C22+D22 -> 3023.16 | F22: =+ENTE!K70 -> 0 | G22: =F22*'BASI ASTA UNITARIE'!C23 -> 0
A23: 16-E | B23: Estensione di ulteriori 2 anni della garanzia standard | C23: 148 | D23: =C23*0.22 -> 32.56 | E23: =C23+D23 -> 180.56 | F23: =+ENTE!K72 -> 0 | G23: =F23*'BASI ASTA UNITARIE'!C24 -> 0
A24: 17 | B24: Notebook fascia bassa | C24: 578.679 | D24: =C24*0.22 -> 127.30938 | E24: =C24+D24 -> 705.98838 | F24: =+ENTE!K73 -> 0 | G24: =F24*'BASI ASTA UNITARIE'!C25 -> 0
A25: 17-E | B25: Estensione di 1 anno della garanzia standard | C25: 68 | D25: =C25*0.22 -> 14.96 | E25: =C25+D25 -> 82.96 | F25: =+ENTE!K75 -> 0 | G25: =F25*'BASI ASTA UNITARIE'!C26 -> 0
A26: 18 | B26: Notebook Fascia Media | C26: 621.29 | D26: =C26*0.22 -> 136.6838 | E26: =C26+D26 -> 757.9738 | F26: =+ENTE!K76 -> 0 | G26: =F26*'BASI ASTA UNITARIE'!C27 -> 0
A27: 18-E | B27: Estensione di ulteriori 2 anni della garanzia standard | C27: 68 | D27: =C27*0.22 -> 14.96 | E27: =C27+D27 -> 82.96 | F27: =+ENTE!K78 -> 0 | G27: =F27*'BASI ASTA UNITARIE'!C28 -> 0
A28: 19 | B28: Notebook Fascia Top | C28: 1898.568 | D28: =C28*0.22 -> 417.68496 | E28: =C28+D28 -> 2316.253 | F28: =+ENTE!K79 -> 0 | G28: =F28*'BASI ASTA UNITARIE'!C29 -> 0
A29: 19-E | B29: Estensione di ulteriori 2 anni della garanzia standard | C29: 62 | D29: =C29*0.22 -> 13.64 | E29: =C29+D29 -> 75.64 | F29: =+ENTE!K81 -> 0 | G29: =F29*'BASI ASTA UNITARIE'!C30 -> 0
A30: 20 | B30: Personal Computer con sistema operativo macOS e monitor da 21,5" | C30: 2027 | D30: =C30*0.22 -> 445.94 | E30: =C30+D30 -> 2472.94 | F30: =+ENTE!K82 -> 0 | G30: =F30*'BASI ASTA UNITARIE'!C31 -> 0
A31: 20-E | B31: Estensione di ulteriori 2 anni della garanzia standard | C31: 118 | D31: =C31*0.22 -> 25.96 | E31: =C31+D31 -> 143.96 | F31: =+ENTE!K84 -> 0 | G31: =F31*'BASI ASTA UNITARIE'!C32 -> 0
A32: 21 | B32: Personal Computer con sistema operativo macOS e schermo da 27" | C32: 2544 | D32: =C32*0.22 -> 559.68 | E32: =C32+D32 -> 3103.68 | F32: =+ENTE!K85 -> 0 | G32: =F32*'BASI ASTA UNITARIE'!C33 -> 0
A33: 21-E | B33: Estensione di ulteriori 2 anni della garanzia standard | C33: 118 | D33: =C33*0.22 -> 25.96 | E33: =C33+D33 -> 143.96 | F33: =+ENTE!K87 -> 0 | G33: =F33*'BASI ASTA UNITARIE'!C34 -> 0
A34: 22 | B34: Scanner A4 | C34: 711.417 | D34: =C34*0.22 -> 156.51174 | E34: =C34+D34 -> 867.92874 | F34: =+ENTE!K88 -> 0 | G34: =F34*'BASI ASTA UNITARIE'!C35 -> 0
A35: 23 | B35: Schermo proiezione | C35: 119 | D35: =C35*0.22 -> 26.18 | E35: =C35+D35 -> 145.18 | F35: =+ENTE!K90 -> 0 | G35: =F35*'BASI ASTA UNITARIE'!C36 -> 0
A36: 24 | B36: Smartphone con sistema operativo Android | C36: 702.962 | D36: =C36*0.22 -> 154.65164 | E36: =C36+D36 -> 857.61364 | F36: =+ENTE!K92 -> 0 | G36: =F36*'BASI ASTA UNITARIE'!C37 -> 0
A37: 25 | B37: Smartphone con sistema operativo iOS | C37: 993 | D37: =C37*0.22 -> 218.46 | E37: =C37+D37 -> 1211.46 | F37: =+ENTE!K94 -> 0 | G37: =F37*'BASI ASTA UNITARIE'!C38 -> 0
A38: 25-E | B38: Estensione di ulteriori 2 anni della garanzia standard | C38: 167 | D38: =C38*0.22 -> 36.74 | E38: =C38+D38 -> 203.74 | F38: =+ENTE!K96 -> 0 | G38: =F38*'BASI ASTA UNITARIE'!C39 -> 0
A39: 26 | B39: Smartphone con sistema operativo Windows | C39: 626 | D39: =C39*0.22 -> 137.72 | E39: =C39+D39 -> 763.72 | F39: =+ENTE!K97 -> 0 | G39: =F39*'BASI ASTA UNITARIE'!C40 -> 0
A40: 27 | B40: Staccabile (ultrabook) 12" | C40: 2487 | D40: =C40*0.22 -> 547.14 | E40: =C40+D40 -> 3034.14 | F40: =+ENTE!K99 -> 0 | G40: =F40*'BASI ASTA UNITARIE'!C41 -> 0
A41: 27-E | B41: Estensione di ulteriori 2 anni della garanzia standard | C41: 71 | D41: =C41*0.22 -> 15.62 | E41: =C41+D41 -> 86.62 | F41: =+ENTE!K101 -> 0 | G41: =F41*'BASI ASTA UNITARIE'!C42 -> 0
A42: 28 | B42: Stampante A4 b/n f/r (no laser) | C42: 255.119 | D42: =C42*0.22 -> 56.12618 | E42: =C42+D42 -> 311.24518 | F42: =+ENTE!K102 -> 0 | G42: =F42*'BASI ASTA UNITARIE'!C43 -> 0
A43: 28-E | B43: Estensione di ulteriori 2 anni della garanzia standard | C43: 52 | D43: =C43*0.22 -> 11.44 | E43: =C43+D43 -> 63.44 | F43: =+ENTE!K104 -> 0 | G43: =F43*'BASI ASTA UNITARIE'!C44 -> 0
A44: 29 | B44: Stampante A4 color laser | C44: 816.291 | D44: =C44*0.22 -> 179.58402 | E44: =C44+D44 -> 995.87502 | F44: =+ENTE!K105 -> 0 | G44: =F44*'BASI ASTA UNITARIE'!C45 -> 0
A45: 29-E | B45: Estensione di ulteriori 2 anni della garanzia standard | C45: 273 | D45: =C45*0.22 -> 60.06 | E45: =C45+D45 -> 333.06 | F45: =+ENTE!K107 -> 0 | G45: =F45*'BASI ASTA UNITARIE'!C46 -> 0
A46: 30 | B46: Stampante Laser Colori A3 f/r | C46: 1711.482 | D46: =C46*0.22 -> 376.52604 | E46: =C46+D46 -> 2088.008 | F46: =+ENTE!K108 -> 0 | G46: =F46*'BASI ASTA UNITARIE'!C47 -> 0
A47: 30-E | B47: Estensione di ulteriori 3 anni della garanzia standard | C47: 505.44 | D47: =C47*0.22 -> 111.1968 | E47: =C47+D47 -> 616.6368 | F47: =+ENTE!K110 -> 0 | G47: =F47*'BASI ASTA UNITARIE'!C48 -> 0
A48: 31 | B48: Stampante laser multifunzione B/N A3 | C48: 978.29 | D48: =C48*0.22 -> 215.2238 | E48: =C48+D48 -> 1193.5138 | F48: =+ENTE!K111 -> 0 | G48: =F48*'BASI ASTA UNITARIE'!C49 -> 0
A49: 32 | B49: Tablet Android | C49: 488 | D49: =C49*0.22 -> 107.36 | E49: =C49+D49 -> 595.36 | F49: =+ENTE!K113 -> 0 | G49: =F49*'BASI ASTA UNITARIE'!C50 -> 0
A50: 33 | B50: Tablet iOS | C50: 1125 | D50: =C50*0.22 -> 247.5 | E50: =C50+D50 -> 1372.5 | F50: =+ENTE!K115 -> 0 | G50: =F50*'BASI ASTA UNITARIE'!C51 -> 0
A51: 33-E | B51: Estensione di ulteriori 2 anni della garanzia standard | C51: 122 | D51: =C51*0.22 -> 26.84 | E51: =C51+D51 -> 148.84 | F51: =+ENTE!K117 -> 0 | G51: =F51*'BASI ASTA UNITARIE'!C52 -> 0
A52: 34 | B52: Videoproiettore per computer | C52: 756 | D52: =C52*0.22 -> 166.32 | E52: =C52+D52 -> 922.32 | F52: =+ENTE!K118 -> 0 | G52: =F52*'BASI ASTA UNITARIE'!C53 -> 0
A53: 35 | B53: Videoproiettore portatile per computer | C53: 863 | D53: =C53*0.22 -> 189.86 | E53: =C53+D53 -> 1052.86 | F53: =+ENTE!K120 -> 0 | G53: =F53*'BASI ASTA UNITARIE'!C54 -> 0
A54: 36 | B54: Personal Computer Workstation | C54: 1812 | D54: =C54*0.22 -> 398.64 | E54: =C54+D54 -> 2210.64 | F54: =+ENTE!K122 -> 0 | G54: =F54*'BASI ASTA UNITARIE'!C55 -> 0
A55: 36-E | B55: Estensione di ulteriori 2 anni della garanzia standard | C55: 33.309 | D55: =C55*0.22 -> 7.32798 | E55: =C55+D55 -> 40.63698 | F55: =+ENTE!K124 -> 0 | G55: =F55*'BASI ASTA UNITARIE'!C56 -> 0
F56: =SUM(F2:F55) -> 0
B58: IMPORTO COMPLESSIVO A BASE D'ASTA IVA ESCLUSA | F58: =SUM(G2:G55) -> 0

Sheet Listino Offerta
A1: CODICE INTERNO | B1: Prodotti/Servizi | C1: Prezzo unitario | D1: IVA | E1: PREZZO UNITARIO IVA COMPRESA | F1: Quantità Appalto Specifico | G1: Prezzo Offerto (Iva escl.) | H1: Totale (Iva escl.)
A2: 1 | B2: Personal Computer Desktop Fascia Alta | C2: 537.536 | D2: =C2*0.22 -> 118.25792 | E2: =C2+D2 -> 655.79392 | F2: =+ENTE!K35 -> 0 | G2: 0 | H2: =+G2*F2 -> 0
A3: 1-E | B3: Estensione di ulteriori 2 anni della garanzia standard | C3: 33.309 | D3: =C3*0.22 -> 7.32798 | E3: =C3+D3 -> 40.63698 | F3: =+ENTE!K37 -> 0 | G3: 0 | H3: =+G3*F3 -> 0
A4: 2 | B4: Personal Computer Desktop Fascia Media | C4: 475 | D4: =C4*0.22 -> 104.5 | E4: =C4+D4 -> 579.5 | F4: =+ENTE!K38 -> 0 | G4: 0 | H4: =+G4*F4 -> 0
A5: 2-E | B5: Estensione di ulteriori 2 anni della garanzia standard | C5: 33.309 | D5: =C5*0.22 -> 7.32798 | E5: =C5+D5 -> 40.63698 | F5: =+ENTE!K40 -> 0 | G5: 0 | H5: =+G5*F5 -> 0
A6: 3 | B6: Personal Computer Desktop Fascia Top | C6: 812.367 | D6: =C6*0.22 -> 178.72074 | E6: =C6+D6 -> 991.08774 | F6: =+ENTE!K41 -> 0 | G6: 0 | H6: =+G6*F6 -> 0
A7: 3-E | B7: Estensione di ulteriori 2 anni della garanzia standard | C7: 33.309 | D7: =C7*0.22 -> 7.32798 | E7: =C7+D7 -> 40.63698 | F7: =+ENTE!K43 -> 0 | G7: 0 | H7: =+G7*F7 -> 0
A8: 4 | B8: Docking station universale | C8: 158 | D8: =C8*0.22 -> 34.76 | E8: =C8+D8 -> 192.76 | F8: =+ENTE!K44 -> 0 | G8: 0 | H8: =+G8*F8 -> 0
A9: 5 | B9: Etichettatrice equivalente Dymo ricaricabile con borsa e 5 nastri ricambio | C9: 177 | D9: =C9*0.22 -> 38.94 | E9: =C9+D9 -> 215.94 | F9: =+ENTE!K46 -> 0 | G9: 0 | H9: =+G9*F9 -> 0
A10: 6 | B10: Etichettatrice per protocollo informatico | C10: 177 | D10: =C10*0.22 -> 38.94 | E10: =C10+D10 -> 215.94 | F10: =+ENTE!K48 -> 0 | G10: 0 | H10: =+G10*F10 -> 0
A11: 7 | B11: Etichettatrice USB | F11: =+ENTE!K50 -> 0 | G11: 0 | H11: =+G11*F11 -> 0
A12: 8 | B12: Fotocamera digitale | C12: 539 | D12: =C12*0.22 -> 118.58 | E12: =C12+D12 -> 657.58 | F12: =+ENTE!K52 -> 0 | G12: 0 | H12: =+G12*F12 -> 0
A13: 9 | B13: Hard Disk esterno con alimentatore | C13: 182 | D13: =C13*0.22 -> 40.04 | E13: =C13+D13 -> 222.04 | F13: =+ENTE!K54 -> 0 | G13: 0 | H13: =+G13*F13 -> 0
A14: 10 | B14: Hard Disk esterno Fascia Alta | C14: 426 | D14: =C14*0.22 -> 93.72 | E14: =C14+D14 -> 519.72 | F14: =+ENTE!K56 -> 0 | G14: 0 | H14: =+G14*F14 -> 0
A15: 11 | B15: Hard Disk esterno Fascia Media | C15: 114.56 | D15: =C15*0.22 -> 25.2032 | E15: =C15+D15 -> 139.7632 | F15: =+ENTE!K58 -> 0 | G15: 0 | H15: =+G15*F15 -> 0
A16: 12 | B16: Hard disk ssd 250GB | C16: 128 | D16: =C16*0.22 -> 28.16 | E16: =C16+D16 -> 156.16 | F16: =+ENTE!K60 -> 0 | G16: 0 | H16: =+G16*F16 -> 0
A17: 13 | B17: Monitor per Personal Computer | C17: 199 | D17: =C17*0.22 -> 43.78 | E17: =C17+D17 -> 242.78 | F17: =+ENTE!K62 -> 0 | G17: 0 | H17: =+G17*F17 -> 0
A18: 14 | B18: Notebook con sistema operativo macOS 15" | C18: 3261 | D18: =C18*0.22 -> 717.42 | E18: =C18+D18 -> 3978.42 | F18: =+ENTE!K64 -> 0 | G18: 0 | H18: =+G18*F18 -> 0
A19: 14-E | B19: Estensione di ulteriori 2 anni della garanzia standard | C19: 230 | D19: =C19*0.22 -> 50.6 | E19: =C19+D19 -> 280.6 | F19: =+ENTE!K66 -> 0 | G19: 0 | H19: =+G19*F19 -> 0
A20: 15 | B20: Notebook con sistema operativo macOS 13" | C20: 2855 | D20: =C20*0.22 -> 628.1 | E20: =C20+D20 -> 3483.1 | F20: =+ENTE!K67 -> 0 | G20: 0 | H20: =+G20*F20 -> 0
A21: 15-E | B21: Estensione di ulteriori 2 anni della garanzia standard | C21: 164 | D21: =C21*0.22 -> 36.08 | E21: =C21+D21 -> 200.08 | F21: =+ENTE!K69 -> 0 | G21: 0 | H21: =+G21*F21 -> 0
A22: 16 | B22: Notebook Fascia Alta | C22: 2478 | D22: =C22*0.22 -> 545.16 | E22: =C22+D22 -> 3023.16 | F22: =+ENTE!K70 -> 0 | G22: 0 | H22: =+G22*F22 -> 0
A23: 16-E | B23: Estensione di ulteriori 2 anni della garanzia standard | C23: 148 | D23: =C23*0.22 -> 32.56 | E23: =C23+D23 -> 180.56 | F23: =+ENTE!K72 -> 0 | G23: 0 | H23: =+G23*F23 -> 0
A24: 17 | B24: Notebook fascia bassa | C24: 578.679 | D24: =C24*0.22 -> 127.30938 | E24: =C24+D24 -> 705.98838 | F24: =+ENTE!K73 -> 0 | G24: 0 | H24: =+G24*F24 -> 0
A25: 17-E | B25: Estensione di 1 anno della garanzia standard | C25: 68 | D25: =C25*0.22 -> 14.96 | E25: =C25+D25 -> 82.96 | F25: =+ENTE!K75 -> 0 | G25: 0 | H25: =+G25*F25 -> 0
A26: 18 | B26: Notebook Fascia Media | C26: 621.29 | D26: =C26*0.22 -> 136.6838 | E26: =C26+D26 -> 757.9738 | F26: =+ENTE!K76 -> 0 | G26: 0 | H26: =+G26*F26 -> 0
A27: 18-E | B27: Estensione di ulteriori 2 anni della garanzia standard | C27: 68 | D27: =C27*0.22 -> 14.96 | E27: =C27+D27 -> 82.96 | F27: =+ENTE!K78 -> 0 | G27: 0 | H27: =+G27*F27 -> 0
A28: 19 | B28: Notebook Fascia Top | C28: 1898.568 | D28: =C28*0.22 -> 417.68496 | E28: =C28+D28 -> 2316.253 | F28: =+ENTE!K79 -> 0 | G28: 0 | H28: =+G28*F28 -> 0
A29: 19-E | B29: Estensione di ulteriori 2 anni della garanzia standard | C29: 62 | D29: =C29*0.22 -> 13.64 | E29: =C29+D29 -> 75.64 | F29: =+ENTE!K81 -> 0 | G29: 0 | H29: =+G29*F29 -> 0
A30: 20 | B30: Personal Computer con sistema operativo macOS e monitor da 21,5" | C30: 2027 | D30: =C30*0.22 -> 445.94 | E30: =C30+D30 -> 2472.94 | F30: =+ENTE!K82 -> 0 | G30: 0 | H30: =+G30*F30 -> 0
A31: 20-E | B31: Estensione di ulteriori 2 anni della garanzia standard | C31: 118 | D31: =C31*0.22 -> 25.96 | E31: =C31+D31 -> 143.96 | F31: =+ENTE!K84 -> 0 | G31: 0 | H31: =+G31*F31 -> 0
A32: 21 | B32: Personal Computer con sistema operativo macOS e schermo da 27" | C32: 2544 | D32: =C32*0.22 -> 559.68 | E32: =C32+D32 -> 3103.68 | F32: =+ENTE!K85 -> 0 | G32: 0 | H32: =+G32*F32 -> 0
A33: 21-E | B33: Estensione di ulteriori 2 anni della garanzia standard | C33: 118 | D33: =C33*0.22 -> 25.96 | E33: =C33+D33 -> 143.96 | F33: =+ENTE!K87 -> 0 | G33: 0 | H33: =+G33*F33 -> 0
A34: 22 | B34: Scanner A4 | C34: 711.417 | D34: =C34*0.22 -> 156.51174 | E34: =C34+D34 -> 867.92874 | F34: =+ENTE!K88 -> 0 | G34: 0 | H34: =+G34*F34 -> 0
A35: 23 | B35: Schermo proiezione | C35: 119 | D35: =C35*0.22 -> 26.18 | E35: =C35+D35 -> 145.18 | F35: =+ENTE!K90 -> 0 | G35: 0 | H35: =+G35*F35 -> 0
A36: 24 | B36: Smartphone con sistema operativo Android | C36: 702.962 | D36: =C36*0.22 -> 154.65164 | E36: =C36+D36 -> 857.61364 | F36: =+ENTE!K92 -> 0 | G36: 0 | H36: =+G36*F36 -> 0
A37: 25 | B37: Smartphone con sistema operativo iOS | C37: 993 | D37: =C37*0.22 -> 218.46 | E37: =C37+D37 -> 1211.46 | F37: =+ENTE!K94 -> 0 | G37: 0 | H37: =+G37*F37 -> 0
A38: 25-E | B38: Estensione di ulteriori 2 anni della garanzia standard | C38: 167 | D38: =C38*0.22 -> 36.74 | E38: =C38+D38 -> 203.74 | F38: =+ENTE!K96 -> 0 | G38: 0 | H38: =+G38*F38 -> 0
A39: 26 | B39: Smartphone con sistema operativo Windows | C39: 626 | D39: =C39*0.22 -> 137.72 | E39: =C39+D39 -> 763.72 | F39: =+ENTE!K97 -> 0 | G39: 0 | H39: =+G39*F39 -> 0
A40: 27 | B40: Staccabile (ultrabook) 12" | C40: 2487 | D40: =C40*0.22 -> 547.14 | E40: =C40+D40 -> 3034.14 | F40: =+ENTE!K99 -> 0 | G40: 0 | H40: =+G40*F40 -> 0
A41: 27-E | B41: Estensione di ulteriori 2 anni della garanzia standard | C41: 71 | D41: =C41*0.22 -> 15.62 | E41: =C41+D41 -> 86.62 | F41: =+ENTE!K101 -> 0 | G41: 0 | H41: =+G41*F41 -> 0
A42: 28 | B42: Stampante A4 b/n f/r (no laser) | C42: 255.119 | D42: =C42*0.22 -> 56.12618 | E42: =C42+D42 -> 311.24518 | F42: =+ENTE!K102 -> 0 | G42: 0 | H42: =+G42*F42 -> 0
A43: 28-E | B43: Estensione di ulteriori 2 anni della garanzia standard | C43: 52 | D43: =C43*0.22 -> 11.44 | E43: =C43+D43 -> 63.44 | F43: =+ENTE!K104 -> 0 | G43: 0 | H43: =+G43*F43 -> 0
A44: 29 | B44: Stampante A4 color laser | C44: 806.2 | D44: =C44*0.22 -> 177.364 | E44: =C44+D44 -> 983.564 | F44: =+ENTE!K105 -> 0 | G44: 0 | H44: =+G44*F44 -> 0
A45: 29-E | B45: Estensione di ulteriori 2 anni della garanzia standard | C45: 273 | D45: =C45*0.22 -> 60.06 | E45: =C45+D45 -> 333.06 | F45: =+ENTE!K107 -> 0 | G45: 0 | H45: =+G45*F45 -> 0
A46: 30 | B46: Stampante Laser Colori A3 f/r | C46: 1711.482 | D46: =C46*0.22 -> 376.52604 | E46: =C46+D46 -> 2088.008 | F46: =+ENTE!K108 -> 0 | G46: 0 | H46: =+G46*F46 -> 0
A47: 30-E | B47: Estensione di ulteriori 3 anni della garanzia standard | C47: 505.44 | D47: =C47*0.22 -> 111.1968 | E47: =C47+D47 -> 616.6368 | F47: =+ENTE!K110 -> 0 | G47: 0 | H47: =+G47*F47 -> 0
A48: 31 | B48: Stampante laser multifunzione B/N A3 | C48: 978.29 | D48: =C48*0.22 -> 215.2238 | E48: =C48+D48 -> 1193.5138 | F48: =+ENTE!K111 -> 0 | G48: 0 | H48: =+G48*F48 -> 0
A49: 32 | B49: Tablet Android | C49: 488 | D49: =C49*0.22 -> 107.36 | E49: =C49+D49 -> 595.36 | F49: =+ENTE!K113 -> 0 | G49: 0 | H49: =+G49*F49 -> 0
A50: 33 | B50: Tablet iOS | C50: 1125 | D50: =C50*0.22 -> 247.5 | E50: =C50+D50 -> 1372.5 | F50: =+ENTE!K115 -> 0 | G50: 0 | H50: =+G50*F50 -> 0
A51: 33-E | B51: Estensione di ulteriori 2 anni della garanzia standard | C51: 122 | D51: =C51*0.22 -> 26.84 | E51: =C51+D51 -> 148.84 | F51: =+ENTE!K117 -> 0 | G51: 0 | H51: =+G51*F51 -> 0
A52: 34 | B52: Videoproiettore per computer | C52: 756 | D52: =C52*0.22 -> 166.32 | E52: =C52+D52 -> 922.32 | F52: =+ENTE!K118 -> 0 | G52: 0 | H52: =+G52*F52 -> 0
A53: 35 | B53: Videoproiettore portatile per computer | C53: 863 | D53: =C53*0.22 -> 189.86 | E53: =C53+D53 -> 1052.86 | F53: =+ENTE!K120 -> 0 | G53: 0 | H53: =+G53*F53 -> 0
A54: 36 | B54: Personal Computer Workstation | C54: 1812 | D54: =C54*0.22 -> 398.64 | E54: =C54+D54 -> 2210.64 | F54: =+ENTE!K122 -> 0 | G54: 0 | H54: =+G54*F54 -> 0
A55: 36-E | B55: Estensione di ulteriori 2 anni della garanzia standard | C55: 33.309 | D55: =C55*0.22 -> 7.32798 | E55: =C55+D55 -> 40.63698 | F55: =+ENTE!K124 -> 0 | G55: 0 | H55: =+G55*F55 -> 0
F56: =SUM(F2:F55) -> 0
B58: IMPORTO COMPLESSIVO A BASE D'ASTA IVA ESCLUSA | F58: =SUM(H2:H55) -> 0

Sheet BASI ASTA UNITARIE
A1: CODICE INTERNO | B1: Descrizione | C1: Prezzo unitario | D1: IVA | E1: PREZZO UNITARIO IVA COMPRESA
C2: BASI ASTA UNITARIE
A3: 1 | B3: ='Listini Aggiudicatari'!B3 -> Personal Computer Desktop Fascia Alta | C3: 537.536 | D3: =C3*0.22 -> 118.25792 | E3: =C3+D3 -> 655.79392
A4: 1-E | B4: ='Listini Aggiudicatari'!B4 -> Estensione di ulteriori 2 anni della garanzia standard | C4: 33.309 | D4: =C4*0.22 -> 7.32798 | E4: =C4+D4 -> 40.63698
A5: 2 | B5: ='Listini Aggiudicatari'!B5 -> Personal Computer Desktop Fascia Media | C5: 475 | D5: =C5*0.22 -> 104.5 | E5: =C5+D5 -> 579.5
A6: 2-E | B6: ='Listini Aggiudicatari'!B6 -> Estensione di ulteriori 2 anni della garanzia standard | C6: 33.309 | D6: =C6*0.22 -> 7.32798 | E6: =C6+D6 -> 40.63698
A7: 3 | B7: ='Listini Aggiudicatari'!B7 -> Personal Computer Desktop Fascia Top | C7: 812.367 | D7: =C7*0.22 -> 178.72074 | E7: =C7+D7 -> 991.08774
A8: 3-E | B8: ='Listini Aggiudicatari'!B8 -> Estensione di ulteriori 2 anni della garanzia standard | C8: 33.309 | D8: =C8*0.22 -> 7.32798 | E8: =C8+D8 -> 40.63698
A9: 4 | B9: ='Listini Aggiudicatari'!B9 -> Docking station universale | C9: 158 | D9: =C9*0.22 -> 34.76 | E9: =C9+D9 -> 192.76
A10: 5 | B10: ='Listini Aggiudicatari'!B10 -> Etichettatrice equivalente Dymo ricaricabile con borsa e 5 nastri ricambio | C10: 177 | D10: =C10*0.22 -> 38.94 | E10: =C10+D10 -> 215.94
A11: 6 | B11: ='Listini Aggiudicatari'!B11 -> Etichettatrice per protocollo informatico | C11: 177 | D11: =C11*0.22 -> 38.94 | E11: =C11+D11 -> 215.94
A12: 7 | B12: ='Listini Aggiudicatari'!B12 -> Etichettatrice USB | C12: 177 | D12: =C12*0.22 -> 38.94 | E12: =C12+D12 -> 215.94
A13: 8 | B13: ='Listini Aggiudicatari'!B13 -> Fotocamera digitale | C13: 539 | D13: =C13*0.22 -> 118.58 | E13: =C13+D13 -> 657.58
A14: 9 | B14: ='Listini Aggiudicatari'!B14 -> Hard Disk esterno con alimentatore | C14: 182 | D14: =C14*0.22 -> 40.04 | E14: =C14+D14 -> 222.04
A15: 10 | B15: ='Listini Aggiudicatari'!B15 -> Hard Disk esterno Fascia Alta | C15: 426 | D15: =C15*0.22 -> 93.72 | E15: =C15+D15 -> 519.72
A16: 11 | B16: ='Listini Aggiudicatari'!B16 -> Hard Disk esterno Fascia Media | C16: 114.56 | D16: =C16*0.22 -> 25.2032 | E16: =C16+D16 -> 139.7632
A17: 12 | B17: ='Listini Aggiudicatari'!B17 -> Hard disk ssd 250GB | C17: 128 | D17: =C17*0.22 -> 28.16 | E17: =C17+D17 -> 156.16
A18: 13 | B18: ='Listini Aggiudicatari'!B18 -> Monitor per Personal Computer | C18: 199 | D18: =C18*0.22 -> 43.78 | E18: =C18+D18 -> 242.78
A19: 14 | B19: ='Listini Aggiudicatari'!B19 -> Notebook con sistema operativo macOS 15" | C19: 3261 | D19: =C19*0.22 -> 717.42 | E19: =C19+D19 -> 3978.42
A20: 14-E | B20: ='Listini Aggiudicatari'!B20 -> Estensione di ulteriori 2 anni della garanzia standard | C20: 230 | D20: =C20*0.22 -> 50.6 | E20: =C20+D20 -> 280.6
A21: 15 | B21: ='Listini Aggiudicatari'!B21 -> Notebook con sistema operativo macOS 13" | C21: 2855 | D21: =C21*0.22 -> 628.1 | E21: =C21+D21 -> 3483.1
A22: 15-E | B22: ='Listini Aggiudicatari'!B22 -> Estensione di ulteriori 2 anni della garanzia standard | C22: 164 | D22: =C22*0.22 -> 36.08 | E22: =C22+D22 -> 200.08
A23: 16 | B23: ='Listini Aggiudicatari'!B23 -> Notebook Fascia Alta | C23: 2478 | D23: =C23*0.22 -> 545.16 | E23: =C23+D23 -> 3023.16
A24: 16-E | B24: ='Listini Aggiudicatari'!B24 -> Estensione di ulteriori 2 anni della garanzia standard | C24: 148 | D24: =C24*0.22 -> 32.56 | E24: =C24+D24 -> 180.56
A25: 17 | B25: ='Listini Aggiudicatari'!B25 -> Notebook fascia bassa | C25: 578.679 | D25: =C25*0.22 -> 127.30938 | E25: =C25+D25 -> 705.98838
A26: 17-E | B26: ='Listini Aggiudicatari'!B26 -> Estensione di 1 anno della garanzia standard | C26: 68 | D26: =C26*0.22 -> 14.96 | E26: =C26+D26 -> 82.96
A27: 18 | B27: ='Listini Aggiudicatari'!B27 -> Notebook Fascia Media | C27: 621.29 | D27: =C27*0.22 -> 136.6838 | E27: =C27+D27 -> 757.9738
A28: 18-E | B28: ='Listini Aggiudicatari'!B28 -> Estensione di ulteriori 2 anni della garanzia standard | C28: 68 | D28: =C28*0.22 -> 14.96 | E28: =C28+D28 -> 82.96
A29: 19 | B29: ='Listini Aggiudicatari'!B29 -> Notebook Fascia Top | C29: 1898.568 | D29: =C29*0.22 -> 417.68496 | E29: =C29+D29 -> 2316.253
A30: 19-E | B30: ='Listini Aggiudicatari'!B30 -> Estensione di ulteriori 2 anni della garanzia standard | C30: 62 | D30: =C30*0.22 -> 13.64 | E30: =C30+D30 -> 75.64
A31: 20 | B31: ='Listini Aggiudicatari'!B31 -> Personal Computer con sistema operativo macOS e monitor da 21,5" | C31: 2027 | D31: =C31*0.22 -> 445.94 | E31: =C31+D31 -> 2472.94
A32: 20-E | B32: ='Listini Aggiudicatari'!B32 -> Estensione di ulteriori 2 anni della garanzia standard | C32: 118 | D32: =C32*0.22 -> 25.96 | E32: =C32+D32 -> 143.96
A33: 21 | B33: ='Listini Aggiudicatari'!B33 -> Personal Computer con sistema operativo macOS e schermo da 27" | C33: 2544 | D33: =C33*0.22 -> 559.68 | E33: =C33+D33 -> 3103.68
A34: 21-E | B34: ='Listini Aggiudicatari'!B34 -> Estensione di ulteriori 2 anni della garanzia standard | C34: 118 | D34: =C34*0.22 -> 25.96 | E34: =C34+D34 -> 143.96
A35: 22 | B35: ='Listini Aggiudicatari'!B35 -> Scanner A4 | C35: 711.417 | D35: =C35*0.22 -> 156.51174 | E35: =C35+D35 -> 867.92874
A36: 23 | B36: ='Listini Aggiudicatari'!B36 -> Schermo proiezione | C36: 119 | D36: =C36*0.22 -> 26.18 | E36: =C36+D36 -> 145.18
A37: 24 | B37: ='Listini Aggiudicatari'!B37 -> Smartphone con sistema operativo Android | C37: 702.962 | D37: =C37*0.22 -> 154.65164 | E37: =C37+D37 -> 857.61364
A38: 25 | B38: ='Listini Aggiudicatari'!B38 -> Smartphone con sistema operativo iOS | C38: 993 | D38: =C38*0.22 -> 218.46 | E38: =C38+D38 -> 1211.46
A39: 25-E | B39: ='Listini Aggiudicatari'!B39 -> Estensione di ulteriori 2 anni della garanzia standard | C39: 167 | D39: =C39*0.22 -> 36.74 | E39: =C39+D39 -> 203.74
A40: 26 | B40: ='Listini Aggiudicatari'!B40 -> Smartphone con sistema operativo Windows | C40: 626 | D40: =C40*0.22 -> 137.72 | E40: =C40+D40 -> 763.72
A41: 27 | B41: ='Listini Aggiudicatari'!B41 -> Staccabile (ultrabook) 12" | C41: 2487 | D41: =C41*0.22 -> 547.14 | E41: =C41+D41 -> 3034.14
A42: 27-E | B42: ='Listini Aggiudicatari'!B42 -> Estensione di ulteriori 2 anni della garanzia standard | C42: 71 | D42: =C42*0.22 -> 15.62 | E42: =C42+D42 -> 86.62
A43: 28 | B43: ='Listini Aggiudicatari'!B43 -> Stampante A4 b/n f/r (no laser) | C43: 255.119 | D43: =C43*0.22 -> 56.12618 | E43: =C43+D43 -> 311.24518
A44: 28-E | B44: ='Listini Aggiudicatari'!B44 -> Estensione di ulteriori 2 anni della garanzia standard | C44: 52 | D44: =C44*0.22 -> 11.44 | E44: =C44+D44 -> 63.44
A45: 29 | B45: ='Listini Aggiudicatari'!B45 -> Stampante A4 color laser | C45: 816.291 | D45: =C45*0.22 -> 179.58402 | E45: =C45+D45 -> 995.87502
A46: 29-E | B46: ='Listini Aggiudicatari'!B46 -> Estensione di ulteriori 2 anni della garanzia standard | C46: 273 | D46: =C46*0.22 -> 60.06 | E46: =C46+D46 -> 333.06
A47: 30 | B47: ='Listini Aggiudicatari'!B47 -> Stampante Laser Colori A3 f/r | C47: 1711.482 | D47: =C47*0.22 -> 376.52604 | E47: =C47+D47 -> 2088.008
A48: 30-E | B48: ='Listini Aggiudicatari'!B48 -> Estensione di ulteriori 3 anni della garanzia standard | C48: 505.44 | D48: =C48*0.22 -> 111.1968 | E48: =C48+D48 -> 616.6368
A49: 31 | B49: ='Listini Aggiudicatari'!B49 -> Stampante laser multifunzione B/N A3 | C49: 978.29 | D49: =C49*0.22 -> 215.2238 | E49: =C49+D49 -> 1193.5138
A50: 32 | B50: ='Listini Aggiudicatari'!B50 -> Tablet Android | C50: 488 | D50: =C50*0.22 -> 107.36 | E50: =C50+D50 -> 595.36
A51: 33 | B51: ='Listini Aggiudicatari'!B51 -> Tablet iOS | C51: 1125 | D51: =C51*0.22 -> 247.5 | E51: =C51+D51 -> 1372.5
A52: 33-E | B52: ='Listini Aggiudicatari'!B52 -> Estensione di ulteriori 2 anni della garanzia standard | C52: 122 | D52: =C52*0.22 -> 26.84 | E52: =C52+D52 -> 148.84
A53: 34 | B53: ='Listini Aggiudicatari'!B53 -> Videoproiettore per computer | C53: 756 | D53: =C53*0.22 -> 166.32 | E53: =C53+D53 -> 922.32
A54: 35 | B54: ='Listini Aggiudicatari'!B54 -> Videoproiettore portatile per computer | C54: 863 | D54: =C54*0.22 -> 189.86 | E54: =C54+D54 -> 1052.86
A55: 36 | B55: ='Listini Aggiudicatari'!B55 -> Personal Computer Workstation | C55: 1812 | D55: =C55*0.22 -> 398.64 | E55: =C55+D55 -> 2210.64
A56: 36-E | B56: ='Listini Aggiudicatari'!B56 -> Estensione di ulteriori 2 anni della garanzia standard | C56: 33.309 | D56: =C56*0.22 -> 7.32798 | E56: =C56+D56 -> 40.63698

Sheet PIANO FABBISOGNI AQ
A1: PRODOTTI E SERVIZI - BIENNIO AQ | B1: INNOVAPUGLIA | C1: ARIF | D1: ARES | E1: ARCA CAPITANATA | F1: AREM | G1: PUGLIA SVILUPPO | H1: ARPA PUGLIA | I1: Servizio Sanitario Regionale | N1: Regione Puglia | O1: ENTI FACOLTIZZATI | P1: Totale
I2: SSR | J2: ASL BT | K2: ASL BA | L2: IRCCS Oncologico | M2: TOT
A3: Desktop Fascia Media | B3: 2 | C3: 16 | D3: 20 | H3: 300 | I3: 2440 | J3: 600 | K3: 500 | L3: 60 | M3: 3600 | N3: 1000 | O3: =P3*0.4 -> 1975.2 | P3: =SUM(B3+C3+D3+H3+M3+N3) -> 4938
A4: 3 anni onsite nbd | B4: 2 | C4: 16 | D4: 20 | H4: 300 | I4: 2440 | J4: 600 | K4: 500 | L4: 60 | M4: 3600 | N4: 1000 | O4: =P4*0.4 -> 1975.2 | P4: =SUM(B4+C4+D4+H4+M4+N4) -> 4938
A5: Desktop Fascia Alta | B5: 16 | C5: 9 | D5: 6 | I5: 634 | J5: 40 | K5: 50 | L5: 0 | M5: 724 | N5: 60 | O5: =P5*0.4 -> 326 | P5: 815
A6: 3 anni onsite nbd | B6: 16 | C6: 9 | D6: 6 | I6: 634 | J6: 40 | K6: 50 | L6: 0 | M6: 724 | N6: 60 | O6: =P6*0.4 -> 326 | P6: 815
A7: Desktop Fascia Top | B7: 64 | C7: 6 | D7: 2 | I7: 107 | J7: 10 | K7: 0 | L7: 1 | M7: 118 | N7: 0 | O7: =P7*0.4 -> 76 | P7: =SUM(B7+C7+D7+H7+M7+N7) -> 190
A8: 3 anni onsite nbd | B8: 64 | C8: 6 | D8: 2 | I8: 107 | J8: 10 | K8: 0 | L8: 1 | M8: 118 | N8: 0 | O8: =P8*0.4 -> 76 | P8: =SUM(B8+C8+D8+H8+M8+N8) -> 190
A9: Workstation | B9: 22 | C9: 3 | D9: 0 | I9: 55 | J9: 0 | K9: 0 | L9: 0 | M9: 55 | N9: 0 | O9: =P9*0.4 -> 32 | P9: =SUM(B9+C9+D9+H9+M9+N9) -> 80
A10: 3 anni onsite nbd | B10: 22 | C10: 3 | D10: 0 | I10: 55 | J10: 0 | K10: 0 | L10: 0 | M10: 55 | N10: 0 | O10: =P10*0.4 -> 32 | P10: =SUM(B10+C10+D10+H10+M10+N10) -> 80
A11: iMac 27" | B11: 8 | C11: 4 | D11: 0 | I11: 50 | J11: 0 | K11: 0 | L11: 1 | M11: 51 | N11: 6 | O11: =P11*0.4 -> 27.6 | P11: =SUM(B11+C11+D11+H11+M11+N11) -> 69
A12: 3 anni | B12: 8 | C12: 4 | D12: 0 | I12: 50 | J12: 0 | K12: 0 | L12: 1 | M12: 51 | N12: 6 | O12: =P12*0.4 -> 27.6 | P12: =SUM(B12+C12+D12+H12+M12+N12) -> 69
A13: iMac 21,5" | B13: 2 | C13: 0 | D13: 0 | I13: 90 | J13: 0 | K13: 0 | L13: 0 | M13: 90 | N13: 0 | O13: =P13*0.4 -> 36.8 | P13: =SUM(B13+C13+D13+H13+M13+N13) -> 92
A14: 3 anni | B14: 2 | C14: 0 | D14: 0 | I14: 90 | J14: 0 | K14: 0 | L14: 0 | M14: 90 | N14: 0 | O14: =P14*0.4 -> 36.8 | P14: =SUM(B14+C14+D14+H14+M14+N14) -> 92
A15: Mac Book Pro 13" | B15: 2 | C15: 0 | D15: 0 | I15: 10 | J15: 4 | K15: 0 | L15: 0 | M15: 14 | N15: 10 | O15: =P15*0.4 -> 10.4 | P15: =SUM(B15+C15+D15+H15+M15+N15) -> 26
A16: 3 anni | B16: 2 | C16: 0 | D16: 0 | I16: 10 | J16: 4 | K16: 0 | L16: 0 | M16: 14 | N16: 10 | O16: =P16*0.4 -> 10.4 | P16: =SUM(B16+C16+D16+H16+M16+N16) -> 26
A17: Mac Book Pro 15" | B17: 2 | C17: 0 | D17: 0 | I17: 15 | J17: 4 | K17: 0 | L17: 0 | M17: 19 | N17: 0 | O17: =P17*0.4 -> 8.4 | P17: =SUM(B17+C17+D17+H17+M17+N17) -> 21
A18: 3 anni | B18: 2 | C18: 0 | D18: 0 | I18: 15 | J18: 4 | K18: 0 | L18: 0 | M18: 19 | N18: 0 | O18: =P18*0.4 -> 8.4 | P18: =SUM(B18+C18+D18+H18+M18+N18) -> 21
... A27: Docking station universale | B27: 14 | C27: 0 | D27: 0 | I27: 434 | J27: 0 | K27: 0 | L27: 0 | M27: 434 | N27: 0 | O27: =P27*0.4 -> 179.2 | P27: =SUM(B27+C27+D27+H27+M27+N27) -> 448
B28: 14 | C28: 0 | D28: 0 | I28: 434 | J28: 0 | K28: 0 | L28: 0 | M28: 434 | N28: 0 | O28: =P28*0.4 -> 179.2 | P28: =SUM(B28+C28+D28+H28+M28+N28) -> 448
A29: Stampante Laser Colori f/r | B29: 2 | C29: 0 | D29: 1 | I29: 232 | J29: 0 | K29: 2 | L29: 0 | M29: 234 | N29: 10 | O29: =P29*0.4 -> 98.8 | P29: =SUM(B29+C29+D29+H29+M29+N29) -> 247
A30: 4 anni di assistenza entro il giorno lav. Successivo | B30: 2 | C30: 0 | D30: 1 | I30: 232 | J30: 0 | K30: 2 | L30: 0 | M30: 234 | N30: 10 | O30: =P30*0.4 -> 98.8 | P30: =SUM(B30+C30+D30+H30+M30+N30) -> 247
A31: Monitor | B31: 148 | C31: 0 | D31: 28 | I31: 2920 | J31: 650 | K31: 10 | L31: 60 | M31: 3640 | N31: 1000 | O31: =P31*0.4 -> 1926.4 | P31: =SUM(B31+C31+D31+H31+M31+N31) -> 4816
B32: 148 | C32: 0 | D32: 28 | I32: 2920 | J32: 650 | K32: 10 | L32: 60 | M32: 3640 | N32: 1000 | O32: =P32*0.4 -> 1926.4 | P32: =SUM(B32+C32+D32+H32+M32+N32) -> 4816
A33: Hard Disk esterno Fascia Media | B33: 42 | C33: 0 | D33: 10 | I33: 230 | J33: 0 | K33: 0 | L33: 0 | M33: 230 | N33: 100 | O33: =P33*0.4 -> 152.8 | P33: =SUM(B33+C33+D33+H33+M33+N33) -> 382
B34: 42 | C34: 0 | D34: 10 | I34: 230 | J34: 0 | K34: 0 | L34: 0 | M34: 230 | N34: 100 | O34: =P34*0.4 -> 152.8 | P34: =SUM(B34+C34+D34+H34+M34+N34) -> 382
A35: Hard Disk esterno Fascia Alta | B35: 28 | C35: 0 | D35: 2 | I35: 125 | J35: 0 | K35: 6 | L35: 0 | M35: 131 | N35: 0 | O35: =P35*0.4 -> 64.4 | P35: =SUM(B35+C35+D35+H35+M35+N35) -> 161
B36: 28 | C36: 0 | D36: 2 | I36: 125 | J36: 0 | K36: 6 | L36: 0 | M36: 131 | N36: 0 | O36: =P36*0.4 -> 64.4 | P36: =SUM(B36+C36+D36+H36+M36+N36) -> 161
A37: Hard Disk esterno con alimentatore | B37: 32 | C37: 0 | D37: 0 | I37: 88 | J37: 0 | K37: 0 | L37: 0 | M37: 88 | N37: 0 | O37: =P37*0.4 -> 48 | P37: =SUM(B37+C37+D37+H37+M37+N37) -> 120
B38: 32 | C38: 0 | D38: 0 | I38: 88 | J38: 0 | K38: 0 | L38: 0 | M38: 88 | N38: 0 | O38: =P38*0.4 -> 48 | P38: =SUM(B38+C38+D38+H38+M38+N38) -> 120
A39: scanner A4 | B39: 16 | C39: 0 | D39: 1 | I39: 562 | J39: 120 | K39: 0 | L39: 0 | M39: 682 | N39: 100 | O39: =P39*0.4 -> 319.6 | P39: =SUM(B39+C39+D39+H39+M39+N39) -> 799
B40: 16 | C40: 0 | D40: 1 | I40: 562 | J40: 120 | K40: 0 | L40: 0 | M40: 682 | N40: 100 | O40: =P40*0.4 -> 319.6 | P40: =SUM(B40+C40+D40+H40+M40+N40) -> 799
A41: Etichettatrice USB | B41: 134 | C41: 0 | D41: 0 | I41: 804 | J41: 0 | K41: 0 | L41: 0 | M41: 804 | N41: 20 | O41: =P41*0.4 -> 383.2 | P41: =SUM(B41+C41+D41+H41+M41+N41) -> 958
B42: 134 | C42: 0 | D42: 0 | I42: 804 | J42: 0 | K42: 0 | L42: 0 | M42: 804 | N42: 20 | O42: =P42*0.4 -> 383.2 | P42: =SUM(B42+C42+D42+H42+M42+N42) -> 958
A43: Tablet Android | B43: 56 | C43: 0 | D43: 0 | I43: 160 | J43: 0 | K43: 0 | L43: 0 | M43: 160 | N43: 0 | O43: =P43*0.4 -> 86.4 | P43: =SUM(B43+C43+D43+H43+M43+N43) -> 216
B44: 56 | C44: 0 | D44: 0 | I44: 160 | J44: 0 | K44: 0 | L44: 0 | M44: 160 | N44: 0 | O44: =P44*0.4 -> 86.4 | P44: =SUM(B44+C44+D44+H44+M44+N44) -> 216
A45: Tablet iOS | B45: 28 | C45: 0 | D45: 0 | I45: 10 | J45: 10 | K45: 0 | L45: 0 | M45: 20 | N45: 0 | O45: =P45*0.4 -> 19.2 | P45: =SUM(B45+C45+D45+H45+M45+N45) -> 48
A46: Due anni aggiuntivi, inclusi interventi per danni accidentali | B46: 28 | C46: 0 | D46: 0 | I46: 10 | J46: 10 | K46: 0 | L46: 0 | M46: 20 | N46: 0 | O46: =P46*0.4 -> 19.2 | P46: =SUM(B46+C46+D46+H46+M46+N46) -> 48
A47: Smartphone Android | B47: 28 | C47: 0 | D47: 0 | I47: 70 | J47: 0 | K47: 0 | L47: 0 | M47: 70 | N47: 160 | O47: =P47*0.4 -> 103.2 | P47: =SUM(B47+C47+D47+H47+M47+N47) -> 258
B48: 28 | C48: 0 | D48: 0 | I48: 70 | J48: 0 | K48: 0 | L48: 0 | M48: 70 | N48: 160 | O48: =P48*0.4 -> 103.2 | P48: =SUM(B48+C48+D48+H48+M48+N48) -> 258
A49: Smartphone iOS | B49: 26 | C49: 0 | D49: 0 | I49: 12 | J49: 10 | K49: 0 | L49: 0 | M49: 22 | N49: 0 | O49: =P49*0.4 -> 19.2 | P49: =SUM(B49+C49+D49+H49+M49+N49) -> 48
A50: Due anni aggiuntivi, inclusi interventi per danni accidentali | B50: 26 | C50: 0 | D50: 0 | I50: 12 | J50: 10 | K50: 0 | L50: 0 | M50: 22 | N50: 0 | O50: =P50*0.4 -> 19.2 | P50: =SUM(B50+C50+D50+H50+M50+N50) -> 48
A51: Smartphone Windows | B51: 2 | C51: 0 | D51: 0 | I51: 900 | J51: 0 | K51: 0 | L51: 0 | M51: 900 | N51: 0 | O51: =P51*0.4 -> 360.8 | P51: =SUM(B51+C51+D51+H51+M51+N51) -> 902
B52: 2 | C52: 0 | D52: 0 | I52: 900 | J52: 0 | K52: 0 | L52: 0 | M52: 900 | N52: 0 | O52: =P52*0.4 -> 360.8 | P52: =SUM(B52+C52+D52+H52+M52+N52) -> 902
A53: Videoproiettore | B53: 2 | C53: 0 | D53: 0 | I53: 44 | J53: 0 | K53: 0 | L53: 0 | M53: 44 | N53: 0 | O53: =P53*0.4 -> 18.4 | P53: =SUM(B53+C53+D53+H53+M53+N53) -> 46
B54: 2 | C54: 0 | D54: 0 | I54: 44 | J54: 0 | K54: 0 | L54: 0 | M54: 44 | N54: 0 | O54: =P54*0.4 -> 18.4 | P54: =SUM(B54+C54+D54+H54+M54+N54) -> 46
A55: Videoproiettore portatile | B55: 14 | C55: 0 | D55: 0 | H55: 1 | I55: 36 | J55: 0 | K55: 5 | L55: 0 | M55: 41 | N55: 0 | O55: =P55*0.4 -> 22.4 | P55: =SUM(B55+C55+D55+H55+M55+N55) -> 56
B56: 14 | C56: 0 | D56: 0 | H56: 1 | I56: 36 | J56: 0 | K56: 5 | L56: 0 | M56: 41 | N56: 0 | O56: =P56*0.4 -> 22.4 | P56: =SUM(B56+C56+D56+H56+M56+N56) -> 56
A57: Schermo proiezione | B57: 4 | C57: 0 | D57: 0 | I57: 27 | J57: 0 | K57: 0 | L57: 0 | M57: 27 | N57: 0 | O57: =P57*0.4 -> 12.4 | P57: =SUM(B57+C57+D57+H57+M57+N57) -> 31
B58: 4 | C58: 0 | D58: 0 | I58: 27 | J58: 0 | K58: 0 | L58: 0 | M58: 27 | N58: 0 | O58: =P58*0.4 -> 12.4 | P58: =SUM(B58+C58+D58+H58+M58+N58) -> 31
A59: Fotocamera | B59: 2 | C59: 0 | D59: 0 | I59: 35 | J59: 0 | K59: 0 | L59: 0 | M59: 35 | N59: 0 | O59: =P59*0.4 -> 14.8 | P59: =SUM(B59+C59+D59+H59+M59+N59) -> 37
B60: 2 | C60: 0 | D60: 0 | I60: 35 | J60: 0 | K60: 0 | L60: 0 | M60: 35 | N60: 0 | O60: =P60*0.4 -> 14.8 | P60: =SUM(B60+C60+D60+H60+M60+N60) -> 37
A61: Notebook fascia bassa | B61: 0 | C61: 0 | D61: 0 | I61: 10 | J61: 0 | K61: 0 | L61: 0 | M61: 10 | N61: 0 | O61: =P61*0.4 -> 4 | P61: =SUM(B61+C61+D61+H61+M61+N61) -> 10
A62: 2 anni nbd | B62: 0 | C62: 0 | D62: 0 | I62: 10 | J62: 0 | K62: 0 | L62: 0 | M62: 10 | N62: 0 | O62: =P62*0.4 -> 4 | P62: =SUM(B62+C62+D62+H62+M62+N62) -> 10
A63: Hard disk ssr 250GB | B63: 0 | C63: 0 | D63: 0 | I63: 20 | J63: 0 | K63: 0 | L63: 0 | M63: 20 | O63: =P63*0.4 -> 8 | P63: =SUM(B63+C63+D63+H63+M63+N63) -> 20
B64: 0 | C64: 0 | D64: 0 | I64: 20 | J64: 0 | K64: 0 | L64: 0 | M64: 20 | O64: =P64*0.4 -> 8 | P64: =SUM(B64+C64+D64+H64+M64+N64) -> 20
A65: Stampante A4 color laser | B65: 0 | C65: 0 | D65: 0 | I65: 40 | J65: 0 | K65: 0 | L65: 0 | M65: 40 | N65: 0 | O65: =P65*0.4 -> 16 | P65: =SUM(B65+C65+D65+H65+M65+N65) -> 40
A66: 3 anni di assistenza entro il giorno lav. Successivo | B66: 0 | C66: 0 | D66: 0 | I66: 40 | J66: 0 | K66: 0 | L66: 0 | M66: 40 | N66: 0 | O66: =P66*0.4 -> 16 | P66: =SUM(B66+C66+D66+H66+M66+N66) -> 40
A67: Stampante A4 bianconero f/r (no laser) | B67: 0 | C67: 0 | D67: 0 | I67: 460 | J67: 0 | K67: 0 | L67: 0 | M67: 460 | N67: 0 | O67: =P67*0.4 -> 184 | P67: =SUM(B67+C67+D67+H67+M67+N67) -> 460
A68: 3 anni onsite nbd | B68: 0 | C68: 0 | D68: 0 | I68: 460 | J68: 0 | K68: 0 | L68: 0 | M68: 460 | N68: 0 | O68: =P68*0.4 -> 184 | P68: =SUM(B68+C68+D68+H68+M68+N68) -> 460
A69: Stampanti laser multifunzione B/N A3 | B69: 0 | C69: 0 | D69: 0 | I69: 60 | J69: 0 | K69: 0 | L69: 0 | M69: 60 | N69: 0 | O69: =P69*0.4 -> 24 | P69: =SUM(B69+C69+D69+H69+M69+N69) -> 60
B70: 0 | C70: 0 | D70: 0 | I70: 60 | J70: 0 | K70: 0 | L70: 0 | M70: 60 | N70: 0 | O70: =P70*0.4 -> 24 | P70: =SUM(B70+C70+D70+H70+M70+N70) -> 60
A71: Etichettatrice tipo Dymo ricaricabili con borsa e 5 nastri ricambio | B71: 0 | C71: 0 | D71: 0 | I71: 5 | J71: 0 | K71: 0 | L71: 0 | M71: 5 | N71: 0 | O71: =P71*0.4 -> 2 | P71: =SUM(B71+C71+D71+H71+M71+N71) -> 5
B72: 0 | C72: 0 | D72: 0 | I72: 5 | J72: 0 | K72: 0 | L72: 0 | M72: 5 | N72: 0 | O72: =P72*0.4 -> 2 | P72: =SUM(B72+C72+D72+H72+M72+N72) -> 5
A73: Etichettatrici protocollo informatico | B73: 0 | C73: 0 | D73: 0 | I73: 100 | J73: 0 | K73: 0 | L73: 0 | M73: 100 | N73: 0 | O73: =P73*0.4 -> 40 | P73: =SUM(B73+C73+D73+H73+M73+N73) -> 100
B74: 0 | C74: 0 | D74: 0 | I74: 100 | J74: 0 | K74: 0 | L74: 0 | M74: 100 | N74: 0 | O74: =P74*0.4 -> 40 | P74: =SUM(B74+C74+D74+H74+M74+N74) -> 100

Sheet Listini Aggiudicatari
C1: SERVIZI INFORMATICI | F1: RTI INGRAM - SIM NT | I1: SIELTE
A2: Codice interno | B2: Descrizione | C2: Prezzo unitario | D2: IVA | E2: PREZZO UNITARIO IVA COMPRESA | F2: Prezzo unitario | G2: IVA | H2: PREZZO UNITARIO IVA COMPRESA | I2: Prezzo unitario | J2: IVA | K2: PREZZO UNITARIO IVA COMPRESA
A3: 1 | B3: Personal Computer Desktop Fascia Alta | C3: 537.536 | D3: =C3*0.22 -> 118.25792 | E3: =C3+D3 -> 655.79392 | F3: 532 | G3: =F3*0.22 -> 117.04 | H3: =F3*1.22 -> 649.04 | I3: 394.55 | J3: =I3*0.22 -> 86.801 | K3: =I3+J3 -> 481.351
A4: 1-E | B4: Estensione di ulteriori 2 anni della garanzia standard | C4: 33.309 | D4: =C4*0.22 -> 7.32798 | E4: =C4+D4 -> 40.63698 | F4: 15 | G4: =F4*0.22 -> 3.3 | H4: =F4*1.22 -> 18.3 | I4: 5.4 | J4: =I4*0.22 -> 1.188 | K4: =I4+J4 -> 6.588
A5: 2 | B5: Personal Computer Desktop Fascia Media | C5: 451.938 | D5: =C5*0.22 -> 99.42636 | E5: =C5+D5 -> 551.36436 | F5: 475 | G5: =F5*0.22 -> 104.5 | H5: =F5*1.22 -> 579.5 | I5: 343 | J5: =I5*0.22 -> 75.46 | K5: =I5+J5 -> 418.46
A6: 2-E | B6: Estensione di ulteriori 2 anni della garanzia standard | C6: 33.309 | D6: =C6*0.22 -> 7.32798 | E6: =C6+D6 -> 40.63698 | F6: 15 | G6: =F6*0.22 -> 3.3 | H6: =F6*1.22 -> 18.3 | I6: 5.4 | J6: =I6*0.22 -> 1.188 | K6: =I6+J6 -> 6.588
A7: 3 | B7: Personal Computer Desktop Fascia Top | C7: 812.367 | D7: =C7*0.22 -> 178.72074 | E7: =C7+D7 -> 991.08774 | F7: 783 | G7: =F7*0.22 -> 172.26 | H7: =F7*1.22 -> 955.26 | I7: 636.53 | J7: =I7*0.22 -> 140.0366 | K7: =I7+J7 -> 776.5666
A8: 3-E | B8: Estensione di ulteriori 2 anni della garanzia standard | C8: 33.309 | D8: =C8*0.22 -> 7.32798 | E8: =C8+D8 -> 40.63698 | F8: 1 | G8: =F8*0.22 -> 0.22 | H8: =F8*1.22 -> 1.22 | I8: 5.4 | J8: =I8*0.22 -> 1.188 | K8: =I8+J8 -> 6.588
A9: 4 | B9: Docking station universale | C9: 126.705 | D9: =C9*0.22 -> 27.8751 | E9: =C9+D9 -> 154.5801 | F9: 158 | G9: =F9*0.22 -> 34.76 | H9: =F9*1.22 -> 192.76 | I9: 118.54 | J9: =I9*0.22 -> 26.0788 | K9: =I9+J9 -> 144.6188
A10: 5 | B10: Etichettatrice equivalente Dymo ricaricabile con borsa e 5 nastri ricambio | C10: 175.269 | D10: =C10*0.22 -> 38.55918 | E10: =C10+D10 -> 213.82818 | F10: 177 | G10: =F10*0.22 -> 38.94 | H10: =F10*1.22 -> 215.94 | I10: 141.46 | J10: =I10*0.22 -> 31.1212 | K10: =I10+J10 -> 172.5812
A11: 6 | B11: Etichettatrice per protocollo informatico | C11: 93.681 | D11: =C11*0.22 -> 20.60982 | E11: =C11+D11 -> 114.29082 | F11: 177 | G11: =F11*0.22 -> 38.94 | H11: =F11*1.22 -> 215.94 | I11: 90.5 | J11: =I11*0.22 -> 19.91 | K11: =I11+J11 -> 110.41
A12: 7 | B12: Etichettatrice USB | C12: 93.681 | D12: =C12*0.22 -> 20.60982 | E12: =C12+D12 -> 114.29082 | F12: 177 | G12: =F12*0.22 -> 38.94 | H12: =F12*1.22 -> 215.94 | I12: 90.5 | J12: =I12*0.22 -> 19.91 | K12: =I12+J12 -> 110.41
A13: 8 | B13: Fotocamera digitale | C13: 168.757 | D13: =C13*0.22 -> 37.12654 | E13: =C13+D13 -> 205.88354 | F13: 539 | G13: =F13*0.22 -> 118.58 | H13: =F13*1.22 -> 657.58 | I13: 215.6 | J13: =I13*0.22 -> 47.432 | K13: =I13+J13 -> 263.032
A14: 9 | B14: Hard Disk esterno con alimentatore | C14: 125.838 | D14: =C14*0.22 -> 27.68436 | E14: =C14+D14 -> 153.52236 | F14: 182 | G14: =F14*0.22 -> 40.04 | H14: =F14*1.22 -> 222.04 | I14: 152.97 | J14: =I14*0.22 -> 33.6534 | K14: =I14+J14 -> 186.6234
A15: 10 | B15: Hard Disk esterno Fascia Alta | C15: 158.684 | D15: =C15*0.22 -> 34.91048 | E15: =C15+D15 -> 193.59448 | F15: 426 | G15: =F15*0.22 -> 93.72 | H15: =F15*1.22 -> 519.72 | I15: 357.06 | J15: =I15*0.22 -> 78.5532 | K15: =I15+J15 -> 435.6132
A16: 11 | B16: Hard Disk esterno Fascia Media | C16: 66.715 | D16: =C16*0.22 -> 14.6773 | E16: =C16+D16 -> 81.3923 | F16: 92 | G16: =F16*0.22 -> 20.24 | H16: =F16*1.22 -> 112.24 | I16: 114.56 | J16: =I16*0.22 -> 25.2032 | K16: =I16+J16 -> 139.7632
A17: 12 | B17: Hard disk ssd 250GB | C17: 100.286 | D17: =C17*0.22 -> 22.06292 | E17: =C17+D17 -> 122.34892 | F17: 128 | G17: =F17*0.22 -> 28.16 | H17: =F17*1.22 -> 156.16 | I17: 102.29 | J17: =I17*0.22 -> 22.5038 | K17: =I17+J17 -> 124.7938
A18: 13 | B18: Monitor per Personal Computer | C18: 189.713 | D18: =C18*0.22 -> 41.73686 | E18: =C18+D18 -> 231.44986 | F18: 199 | G18: =F18*0.22 -> 43.78 | H18: =F18*1.22 -> 242.78 | I18: 170 | J18: =I18*0.22 -> 37.4 | K18: =I18+J18 -> 207.4
A19: 14 | B19: Notebook con sistema operativo macOS 15" | C19: 2915.442 | D19: =C19*0.22 -> 641.39724 | E19: =C19+D19 -> 3556.8392 | F19: 3261 | G19: =F19*0.22 -> 717.42 | H19: =F19*1.22 -> 3978.42 | I19: 3237.71 | J19: =I19*0.22 -> 712.2962 | K19: =I19+J19 -> 3950.0062
A20: 14-E | B20: Estensione di ulteriori 2 anni della garanzia standard | C20: 34.013 | D20: =C20*0.22 -> 7.48286 | E20: =C20+D20 -> 41.49586 | F20: 230 | G20: =F20*0.22 -> 50.6 | H20: =F20*1.22 -> 280.6 | I20: 223.6 | J20: =I20*0.22 -> 49.192 | K20: =I20+J20 -> 272.792
A21: 15 | B21: Notebook con sistema operativo macOS 13" | C21: 2477.569 | D21: =C21*0.22 -> 545.06518 | E21: =C21+D21 -> 3022.6342 | F21: 2855 | G21: =F21*0.22 -> 628.1 | H21: =F21*1.22 -> 3483.1 | I21: 2813.85 | J21: =I21*0.22 -> 619.047 | K21: =I21+J21 -> 3432.897
A22: 15-E | B22: Estensione di ulteriori 2 anni della garanzia standard | C22: 34.013 | D22: =C22*0.22 -> 7.48286 | E22: =C22+D22 -> 41.49586 | F22: 164 | G22: =F22*0.22 -> 36.08 | H22: =F22*1.22 -> 200.08 | I22: 159.12 | J22: =I22*0.22 -> 35.0064 | K22: =I22+J22 -> 194.1264
A23: 16 | B23: Notebook Fascia Alta | C23: 1756.761 | D23: =C23*0.22 -> 386.48742 | E23: =C23+D23 -> 2143.2484 | F23: 2478 | G23: =F23*0.22 -> 545.16 | H23: =F23*1.22 -> 3023.16 | I23: 1857.85 | J23: =I23*0.22 -> 408.727 | K23: =I23+J23 -> 2266.577
A24: 16-E | B24: Estensione di ulteriori 2 anni della garanzia standard | C24: 34.013 | D24: =C24*0.22 -> 7.48286 | E24: =C24+D24 -> 41.49586 | F24: 148 | G24: =F24*0.22 -> 32.56 | H24: =F24*1.22 -> 180.56 | I24: 104 | J24: =I24*0.22 -> 22.88 | K24: =I24+J24 -> 126.88
A25: 17 | B25: Notebook fascia bassa | C25: 578.679 | D25: =C25*0.22 -> 127.30938 | E25: =C25+D25 -> 705.98838 | F25: 404 | G25: =F25*0.22 -> 88.88 | H25: =F25*1.22 -> 492.88 | I25: 470.96 | J25: =I25*0.22 -> 103.6112 | K25: =I25+J25 -> 574.5712
A26: 17-E | B26: Estensione di 1 anno della garanzia standard | C26: 17.007 | D26: =C26*0.22 -> 3.74154 | E26: =C26+D26 -> 20.74854 | F26: 68 | G26: =F26*0.22 -> 14.96 | H26: =F26*1.22 -> 82.96 | I26: 33.28 | J26: =I26*0.22 -> 7.3216 | K26: =I26+J26 -> 40.6016
A27: 18 | B27: Notebook Fascia Media | C27: 621.29 | D27: =C27*0.22 -> 136.6838 | E27: =C27+D27 -> 757.9738 | F27: 603 | G27: =F27*0.22 -> 132.66 | H27: =F27*1.22 -> 735.66 | I27: 491.69 | J27: =I27*0.22 -> 108.1718 | K27: =I27+J27 -> 599.8618
A28: 18-E | B28: Estensione di ulteriori 2 anni della garanzia standard | C28: 34.013 | D28: =C28*0.22 -> 7.48286 | E28: =C28+D28 -> 41.49586 | F28: 68 | G28: =F28*0.22 -> 14.96 | H28: =F28*1.22 -> 82.96 | I28: 33.28 | J28: =I28*0.22 -> 7.3216 | K28: =I28+J28 -> 40.6016
A29: 19 | B29: Notebook Fascia Top | C29: 1898.568 | D29: =C29*0.22 -> 417.68496 | E29: =C29+D29 -> 2316.253 | F29: 1831 | G29: =F29*0.22 -> 402.82 | H29: =F29*1.22 -> 2233.82 | I29: 1674.85 | J29: =I29*0.22 -> 368.467 | K29: =I29+J29 -> 2043.317
A30: 19-E | B30: Estensione di ulteriori 2 anni della garanzia standard | C30: 34.013 | D30: =C30*0.22 -> 7.48286 | E30: =C30+D30 -> 41.49586 | F30: 62 | G30: =F30*0.22 -> 13.64 | H30: =F30*1.22 -> 75.64 | I30: 52 | J30: =I30*0.22 -> 11.44 | K30: =I30+J30 -> 63.44
A31: 20 | B31: Personal Computer con sistema operativo macOS e monitor da 21,5" | C31: 1674.546 | D31: =C31*0.22 -> 368.40012 | E31: =C31+D31 -> 2042.9461 | F31: 2027 | G31: =F31*0.22 -> 445.94 | H31: =F31*1.22 -> 2472.94 | I31: 1885.82 | J31: =I31*0.22 -> 414.8804 | K31: =I31+J31 -> 2300.7004
A32: 20-E | B32: Estensione di ulteriori 2 anni della garanzia standard | C32: 35.611 | D32: =C32*0.22 -> 7.83442 | E32: =C32+D32 -> 43.44542 | F32: 118 | G32: =F32*0.22 -> 25.96 | H32: =F32*1.22 -> 143.96 | I32: 114.4 | J32: =I32*0.22 -> 25.168 | K32: =I32+J32 -> 139.568
A33: 21 | B33: Personal Computer con sistema operativo macOS e schermo da 27" | C33: 2534.369 | D33: =C33*0.22 -> 557.56118 | E33: =C33+D33 -> 3091.9302 | F33: 2544 | G33: =F33*0.22 -> 559.68 | H33: =F33*1.22 -> 3103.68 | I33: 2502.31 | J33: =I33*0.22 -> 550.5082 | K33: =I33+J33 -> 3052.8182
A34: 21-E | B34: Estensione di ulteriori 2 anni della garanzia standard | C34: 35.611 | D34: =C34*0.22 -> 7.83442 | E34: =C34+D34 -> 43.44542 | F34: 118 | G34: =F34*0.22 -> 25.96 | H34: =F34*1.22 -> 143.96 | I34: 114.4 | J34: =I34*0.22 -> 25.168 | K34: =I34+J34 -> 139.568
A35: 22 | B35: Scanner A4 | C35: 711.417 | D35: =C35*0.22 -> 156.51174 | E35: =C35+D35 -> 867.92874 | F35: 590 | G35: =F35*0.22 -> 129.8 | H35: =F35*1.22 -> 719.8 | I35: 538.14 | J35: =I35*0.22 -> 118.3908 | K35: =I35+J35 -> 656.5308
A36: 23 | B36: Schermo proiezione | C36: 105.066 | D36: =C36*0.22 -> 23.11452 | E36: =C36+D36 -> 128.18052 | F36: 119 | G36: =F36*0.22 -> 26.18 | H36: =F36*1.22 -> 145.18 | I36: 99.45 | J36: =I36*0.22 -> 21.879 | K36: =I36+J36 -> 121.329
A37: 24 | B37: Smartphone con sistema operativo Android | C37: 702.962 | D37: =C37*0.22 -> 154.65164 | E37: =C37+D37 -> 857.61364 | F37: 690 | G37: =F37*0.22 -> 151.8 | H37: =F37*1.22 -> 841.8 | I37: 667.89 | J37: =I37*0.22 -> 146.9358 | K37: =I37+J37 -> 814.8258
A38: 25 | B38: Smartphone con sistema operativo iOS | C38: 612.123 | D38: =C38*0.22 -> 134.66706 | E38: =C38+D38 -> 746.79006 | F38: 993 | G38: =F38*0.22 -> 218.46 | H38: =F38*1.22 -> 1211.46 | I38: 878.96 | J38: =I38*0.22 -> 193.3712 | K38: =I38+J38 -> 1072.3312
A39: 25-E | B39: Estensione di ulteriori 2 anni della garanzia standard | C39: 33.742 | D39: =C39*0.22 -> 7.42324 | E39: =C39+D39 -> 41.16524 | F39: 167 | G39: =F39*0.22 -> 36.74 | H39: =F39*1.22 -> 203.74 | I39: 102.96 | J39: =I39*0.22 -> 22.6512 | K39: =I39+J39 -> 125.6112
A40: 26 | B40: Smartphone con sistema operativo Windows | C40: 456.153 | D40: =C40*0.22 -> 100.35366 | E40: =C40+D40 -> 556.50666 | F40: 626 | G40: =F40*0.22 -> 137.72 | H40: =F40*1.22 -> 763.72 | I40: 507.02 | J40: =I40*0.22 -> 111.5444 | K40: =I40+J40 -> 618.5644
A41: 27 | B41: Staccabile (ultrabook) 12" | C41: 1643.987 | D41: =C41*0.22 -> 361.67714 | E41: =C41+D41 -> 2005.6641 | F41: 2487 | G41: =F41*0.22 -> 547.14 | H41: =F41*1.22 -> 3034.14 | I41: 2155.57 | J41: =I41*0.22 -> 474.2254 | K41: =I41+J41 -> 2629.7954
A42: 27-E | B42: Estensione di ulteriori 2 anni della garanzia standard | C42: 34.013 | D42: =C42*0.22 -> 7.48286 | E42: =C42+D42 -> 41.49586 | F42: 71 | G42: =F42*0.22 -> 15.62 | H42: =F42*1.22 -> 86.62 | I42: 63.44 | J42: =I42*0.22 -> 13.9568 | K42: =I42+J42 -> 77.3968
A43: 28 | B43: Stampante A4 b/n f/r (no laser) | C43: 255.119 | D43: =C43*0.22 -> 56.12618 | E43: =C43+D43 -> 311.24518 | F43: 203 | G43: =F43*0.22 -> 44.66 | H43: =F43*1.22 -> 247.66 | I43: 204.83 | J43: =I43*0.22 -> 45.0626 | K43: =I43+J43 -> 249.8926
A44: 28-E | B44: Estensione di ulteriori 2 anni della garanzia standard | C44: 40.923 | D44: =C44*0.22 -> 9.00306 | E44: =C44+D44 -> 49.92606 | F44: 50 | G44: =F44*0.22 -> 11 | H44: =F44*1.22 -> 61 | I44: 52 | J44: =I44*0.22 -> 11.44 | K44: =I44+J44 -> 63.44
A45: 29 | B45: Stampante A4 color laser | C45: 816.291 | D45: =C45*0.22 -> 179.58402 | E45: =C45+D45 -> 995.87502 | F45: 790 | G45: =F45*0.22 -> 173.8 | H45: =F45*1.22 -> 963.8 | I45: 806.2 | J45: =I45*0.22 -> 177.364 | K45: =I45+J45 -> 983.564
A46: 29-E | B46: Estensione di ulteriori 2 anni della garanzia standard | C46: 40.923 | D46: =C46*0.22 -> 9.00306 | E46: =C46+D46 -> 49.92606 | F46: 273 | G46: =F46*0.22 -> 60.06 | H46: =F46*1.22 -> 333.06 | I46: 257.92 | J46: =I46*0.22 -> 56.7424 | K46: =I46+J46 -> 314.6624
A47: 30 | B47: Stampante Laser Colori A3 f/r | C47: 1711.482 | D47: =C47*0.22 -> 376.52604 | E47: =C47+D47 -> 2088.008 | F47: 1570 | G47: =F47*0.22 -> 345.4 | H47: =F47*1.22 -> 1915.4 | I47: 1711.19 | J47: =I47*0.22 -> 376.4618 | K47: =I47+J47 -> 2087.6518
A48: 30-E | B48: Estensione di ulteriori 3 anni della garanzia standard | C48: 61.385 | D48: =C48*0.22 -> 13.5047 | E48: =C48+D48 -> 74.8897 | F48: 356 | G48: =F48*0.22 -> 78.32 | H48: =F48*1.22 -> 434.32 | I48: 505.44 | J48: =I48*0.22 -> 111.1968 | K48: =I48+J48 -> 616.6368
A49: 31 | B49: Stampante laser multifunzione B/N A3 | C49: 960.381 | D49: =C49*0.22 -> 211.28382 | E49: =C49+D49 -> 1171.6648 | F49: 923 | G49: =F49*0.22 -> 203.06 | H49: =F49*1.22 -> 1126.06 | I49: 978.29 | J49: =I49*0.22 -> 215.2238 | K49: =I49+J49 -> 1193.5138
A50: 32 | B50: Tablet Android | C50: 418.09 | D50: =C50*0.22 -> 91.9798 | E50: =C50+D50 -> 510.0698 | F50: 488 | G50: =F50*0.22 -> 107.36 | H50: =F50*1.22 -> 595.36 | I50: 433.46 | J50: =I50*0.22 -> 95.3612 | K50: =I50+J50 -> 528.8212
A51: 33 | B51: Tablet iOS | C51: 882.505 | D51: =C51*0.22 -> 194.1511 | E51: =C51+D51 -> 1076.6561 | F51: 1125 | G51: =F51*0.22 -> 247.5 | H51: =F51*1.22 -> 1372.5 | I51: 878.96 | J51: =I51*0.22 -> 193.3712 | K51: =I51+J51 -> 1072.3312
A52: 33-E | B52: Estensione di ulteriori 2 anni della garanzia standard | C52: 33.742 | D52: =C52*0.22 -> 7.42324 | E52: =C52+D52 -> 41.16524 | F52: 122 | G52: =F52*0.22 -> 26.84 | H52: =F52*1.22 -> 148.84 | I52: 102.96 | J52: =I52*0.22 -> 22.6512 | K52: =I52+J52 -> 125.6112
A53: 34 | B53: Videoproiettore per computer | C53: 571.735 | D53: =C53*0.22 -> 125.7817 | E53: =C53+D53 -> 697.5167 | F53: 756 | G53: =F53*0.22 -> 166.32 | H53: =F53*1.22 -> 922.32 | I53: 702.11 | J53: =I53*0.22 -> 154.4642 | K53: =I53+J53 -> 856.5742
A54: 35 | B54: Videoproiettore portatile per computer | C54: 678.184 | D54: =C54*0.22 -> 149.20048 | E54: =C54+D54 -> 827.38448 | F54: 863 | G54: =F54*0.22 -> 189.86 | H54: =F54*1.22 -> 1052.86 | I54: 686.67 | J54: =I54*0.22 -> 151.0674 | K54: =I54+J54 -> 837.7374
A55: 36 | B55: Personal Computer Workstation | C55: 1545.925 | D55: =C55*0.22 -> 340.1035 | E55: =C55+D55 -> 1886.0285 | F55: 1812 | G55: =F55*0.22 -> 398.64 | H55: =F55*1.22 -> 2210.64 | I55: 1128.17 | J55: =I55*0.22 -> 248.1974 | K55: =I55+J55 -> 1376.3674
A56: 36-E | B56: Estensione di ulteriori 2 anni della garanzia standard | C56: 33.309 | D56: =C56*0.22 -> 7.32798 | E56: =C56+D56 -> 40.63698 | F56: 1 | G56: =F56*0.22 -> 0.22 | H56: =F56*1.22 -> 1.22 | I56: 20.8 | J56: =I56*0.22 -> 4.576 | K56: =I56+J56 -> 25.376

Sheet PCDFA
A1: Personal Computer Desktop Fascia Alta - CARATTERISTICHE TECNICHE MINIME
A2: Sistema operativo | F2: Microsoft Windows 10 Professional 64bit
A3: Processore | F3: Sysmark 2014 OVERALL PERFORMANCE >1200
A4: Memoria | F4: 8 GB di SDRAM DDR4 a 2666 MHz (1 x 8 GB)
A5: Unità disco | F5: SATA da 1 TB (7200 rpm)
A6: Unità ottica | F6: Masterizzatore DVD SATA
A7: Grafica | F7: Integrata HD
A8: Interfaccia di rete | F8: GbE integrata
A9: Porte | F9: 2 USB 3.0, 1 microfono, 1 cuffia, 6 USB 2.0, 2 PS/2 (tastiera e mouse), 1 VGA, 1 DisplayPort, 1 RJ-45, 1 seriale
A10: Tastiera e mouse | F10: Tastiera USB non wireless, Mouse ottico USB non wireless, entrambi dello stesso brand del pc
A11: Gestione della sicurezza | F11: Password di accensione (tramite BIOS), Password amministratore (tramite BIOS)
A12: Certificazioni | F12: Epeat Gold
A15: INGRAM | B15: PC Microtower G4 HP ProDesk 400 (CTO) | I15: INTEL CORE i3 - 7100 2,4GHZ (Gen 7)
A16: SERVIZI INFORMATICI | B16: Dell Optiplex 3050 Mini Tower XCTO | I16: INTEL CORE i3-6100 (DC 3MB 3.7Ghz )
A17: SIELTE | B17: Lenovo V530s (CTO) | I17: Intel Core i3-8100 (4C / 4T, 3,6Ghz, 6MB)
A19: Torna indietro

Sheet PCDFM
A1: Personal Computer Desktop Fascia Media - CARATTERISTICHE TECNICHE MINIME
A2: Sistema operativo | E2: Microsoft Windows 7 Professional 64 (disponibile tramite diritti di downgrade da Windows 10 Pro 64 o da Windows 8 Pro 64)
A3: Processore | E3: Dual Core, processo produttivo 22nm, clock 3.3Ghz
A4: Memoria | E4: 4 GB di SDRAM DDR3
A5: Unità disco | E5: SATA da 500 GB (7200 rpm)
A6: Unità ottica | E6: Masterizzatore DVD SATA
A7: Grafica | E7: Integrata HD
A8: Interfaccia di rete | E8: GbE integrata
A9: Porte | E9: 2 USB 3.0, 1 microfono, 1 cuffia, 6 USB 2.0, 2 PS/2, 1 VGA, 1 DisplayPort, 1 RJ-45
A10: Tastiera e mouse | E10: Tastiera USB non wireless, Mouse ottico USB non wireless, entrambi dello stesso brand del pc
A11: Gestione della sicurezza | E11: Password di accensione (tramite BIOS)
A12: Certificazioni | E12: Epeat Gold, Energy Star
A15: INGRAM | B15: PC Microtower G4 HP ProDesk 400 (CTO) | G15: INTEL DUAL CORE G4400 3,3 GHz (Gen 6)
A16: SERVIZI INFORMATICI | B16: Dell Optiplex 3050 MiniTower XCTO | G16: Intel Pentium G4400 Processor (Dual Core, 3MB, 2T, 3.3GHz, 65W)
A17: SIELTE | B17: Lenovo ThinkCentre M710 | G17: INTEL PENTIUM G4560 3,5GHZ
A19: Torna indietro

Sheet PCDFT
A1: Personal Computer Desktop Fascia Top - CARATTERISTICHE TECNICHE MINIME
A2: Sistema operativo | F2: Microsoft Windows 7 Professional 64 (disponibile tramite diritti di downgrade da Windows 10 Pro 64 o da Windows 8 Pro 64)
A3: Processore | F3: Sysmark 2014 OVERALL PERFORMANCE >1750
A4: Memoria | F4: 16 GB (2 x 8 GB)
A5: Unità disco | F5: SATA da 1 TB (7200 rpm)
A6: Unità ottica | F6: Masterizzatore DVD SATA
A7: Grafica | F7: Scheda grafica x16 PCIe da 2 GB
A8: Connettività e comunicazioni | F8: Connessione di rete RJ45 GbE, 4 USB 3.0, 6 USB 2.0, 1 VGA, 1 DVI-D, 1 jack microfono/cuffia, 1 ingresso/uscita di linea audio
A9: Gestione della sicurezza | F9: Password di accensione (tramite BIOS), Password amministratore (tramite BIOS)
A10: Certificazioni | F10: Epeat Gold
A11: Tastiera e mouse | F11: Tastiera USB non wireless, Mouse ottico USB non wireless, entrambi dello stesso brand del pc
A13: INGRAM | B13: PC Microtower G2 HP 290 G2 MT | H13: INTEL i5 - 8500 3,0GHz up to 4.10 GHz 6Core (Gen 8)
A14: SIELTE | B14: Lenovo V530s (CTO) | H14: Intel Core i5-9500 Processor (9MB Cache, up to 4.40GHz)
A15: SERVIZI INFORMATICI | B15: DellOptiplex 3050 Small Form Factor XCTO | H15: Intel Core i7-6700 (QC 8MB 3.4Ghz )
A17: Torna indietro

Sheet DS
A1: Docking station universale - CARATTERISTICHE TECNICHE MINIME
A2: Sicurezza | J2: Slot di sicurezza Kensington
A3: Compatibilità OS | J3: Mac OS 10.6, Mac OS 10.7, Mac OS 10.8, da Windows 7 a Windows 10
A4: Compatibilità Hardware | J4: Notebook, Ultrabook, Tablet Windows
A5: Interfaccia host | J5: USB 3.0
A6: Uscita video | J6: Connettore femmina HDMI, Connettore femmina DVI HDDE
A7: Collegamento upstream all'host | J7: Connettore femmina di tipo USB B
A8: Collegamento downstream all'hub | J8: Connettore femmina di tipo USB A
A9: Porta audio | J9: Mini-jack stereo canale 2.0 da 3,5 mm
A10: Porta Ethernet | J10: Connettore RJ45 10/100/1000
A11: Risoluzione video | J11: 2048 x 1152
A12: Audio | J12: canale 2.0 (5.1 via HDMI)
A13: Peso | J13: 380 g max
... A15: Posizionamento | J15: Verticale
A17: INGRAM | B17: Kensington Docking station USB 3.0 (sd3500v)
A18: SIELTE | B18: Kensington Docking station USB 3.0 (sd3500v)
A19: SERVIZI INFORMATICI | B19: Kensington Docking station USB 3.0 (sd3500v)
A22: Torna indietro

Sheet PCWS
A1: Personal Computer Workstation - CARATTERISTICHE TECNICHE MINIME
A2: Sistema operativo | D2: Microsoft Windows 7 Professional 64 (disponibile tramite diritti di downgrade da Windows 10 Pro 64 o da Windows 8 Pro 64)
A3: Processore | D3: Parametri minimi 3.5Ghz, 6 cores, 15MB cache L3
A4: Memoria | D4: 16 GB di RAM
A5: Unità disco | D5: SATA da 1 TB (7200 rpm)
A6: Unità ottica | D6: Masterizzatore DVD sottile SuperMulti SATA
A7: Grafica | D7: Scheda video PCI Express 2GB
A8: Interfaccia di rete | D8: LAN integrata
A9: Porte | D9: 1 cuffia, 4 USB 3.0, 5 USB 2.0, 1 ingresso audio, 1 uscita audio, 1 RJ-45, 2 PS/2
A10: Audio | D10: Scheda audio integrata ad alta definizione
A11: Tastiera e mouse | D11: Tastiera USB non wireless, Mouse ottico USB non wireless, entrambi dello stesso brand del pc
A12: Certificazioni | D12: Epeat Gold
A15: INGRAM | B15: HP Z440 | F15: INTEL XEON SIX CORE E5 - 1650 V3 3,5 GHz
A16: SIELTE | B16: Lenovo ThinkStation P410 | F16: INTEL XEON SIX CORE E5-1650 V4
A17: SERVIZI INFORMATICI | B17: Dell Precision Tower 5810 XCTO | F17: INTEL XEON SIX CORE E5 - 1650 V3 3,5 GHz
A18: Torna indietro

Sheet ET Dymo
A2: Batteria | G2: agli ioni di litio
A3: display | G3: retroilluminato a 4 righe
A4: Caratteri | G4: 8 caratteri, 7 dimensioni carattere, 10 stili, 8 bordi e sottolineatura
A5: Memoria | G5: 10 etichette (ultima stampata + precedenti 9)
A6: Codici a barre | G6: Stampa codici a barre: UPC-E, Code-39, Code-128, EAN 13, EAN 8, UPC-A
A7: Altre caratteristiche | G7: Accesso rapido a simboli speciali, tra cui punteggiatura, simboli di valuta e segni diacritici (ad esempio é, à, ç..) Spegnimento automatico
G8: Connettività PC
A9: Software | G9: Software proprietario incluso, compatibile con Windows e MacOS
A10: Tipi di etichette | G10: 6 mm, 9 mm, 12 mm, 19 mm
A11: Peso | G11: Max 500 g
A12: Set nastri supplementare | G12: 5 Nastri dello stesso brand dell’etichettatrice, dimensioni 12mm x 7m
A14: INGRAM | B14: Dymo Etichettatrice portatile LabelManager 420P
A15: SIELTE | B15: Dymo Etichettatrice portatile LabelManager 420P
A16: SERVIZI INFORMATICI | B16: Dymo Etichettatrice portatile LabelManager 420P
A19: Torna indietro

Sheet ETPI
A1: Etichettatrice per protocollo informatico / USB - CARATTERISTICHE TECNICHE MINIME
A2: Velocità di stampa | E2: Almeno 70 etichette/minuto
A3: Risoluzione | E3: 600x300 dpi
A4: Larghezza max di stampa | E4: 56 mm
A5: Altre funzionalità | E5: guida etichetta, software incluso, tecnologia di stampa a trasferimento termico
A6: Dimensioni massime (LxPxA) | E6: 15x20x15 (cm)
A7: Peso max | E7: 800g
A8: Connettività | E8: USB, cavo incluso
A9: Sistemi operativi supportati | E9: Microsoft Windows, Mac OS X
A12: INGRAM | B12: Dymo Labelwriter 450 turbo
A13: SIELTE | B13: Dymo Labelwriter 450 turbo
A14: SERVIZI INFORMATICI | B14: Dymo Labelwriter 450 turbo
A17: Torna indietro

Sheet DCAMERA
A1: FOTOCAMERA DIGITALE - CARATTERISTICHE TECNICHE MINIME
A2: Dimensioni (L x A x P) | F2: 126,4 x 86,6 x 94,2 mm
A3: Peso | F3: Circa 524 g con batteria e scheda di memoria SD
A4: Pixel effettivi | F4: 20,0 megapixel
A5: Dimensioni del sensore / Pixel totali | F5: Sensore CCD tipo 1/2.3 / Numero totale pixel 20,5 megapixel
A6: Apertura | F6: F3,0 - 6,5 / 2 step (F3,0 / 8,6 (G), F6,5 / 18,9 (T))
A7: Zoom ottico | F7: 42x
A8: Lunghezza focale | F8: f = 4,0 - 168,0 mm (22 - 924 mm in equivalente a 35 mm)
A9: Zoom ottico extra | F9: 66,3x (4:3 / 8M), 105,0x (4:3 / sotto 3M)
A10: Intelligent Zoom | F10: 84x
A11: Obiettivo | F11: 12 elementi in 9 gruppi/(3 Lenti asferiche / 6 Superfici asferiche / 2 Lenti ED)
A12: Zoom digitale | F12: Max. 4x
A13: Luce di assistenza AF | F13: Sì (On/Off)
... A35: Accessori inclusi | F35: Scheda di memoria per fotocamera da 32GB Classe 6 o superiore
A38: INGRAM | B38: Panasonic LUMIX DC-FX82 Bridge Super Zoom
A39: SIELTE | B39: Panasonic Lumix DMC-LZ40
A40: SERVIZI INFORMATICI | B40: Panasonic DMC-LZ40EG-K
A43: Torna indietro

Sheet HDE
A1: Hard Disk Esterno con alimentatore - CARATTERISTICHE TECNICHE MINIME
A2: Capacità | F2: 4 TB
A3: Interfaccia | F3: USB 3.0
A4: Peso max | F4: 1.5 kg
A5: Velocità di trasferimento dati interfaccia esterna | F5: Fino a 5 Gb/s con usb 3.0
A6: Alimentazione | F6: Adattatore c.a. incluso
A7: Sistema operativo richiesto | F7: Microsoft Windows Vista / XP / 7 / 8
A8: Cavi inclusi | F8: 1 x cavo USB - esterno
A9: Standard di conformità | F9: Plug and Play, RoHS
A12: INGRAM | B12: Western Digital My Book
A13: SIELTE | B13: Western Digital My Book
A14: SERVIZI INFORMATICI | B14: Toshiba Canvio Desk 3.5”
A16: Torna indietro

Sheet HDFA
A1: Hard Disk esterno Fascia Alta (NAS) - CARATTERISTICHE TECNICHE MINIME
A3: CPU | F3: Freescale™ ARM® Cortex®-A9 dual-core 1.2GHz
A4: DRAM | F4: 512MB
A5: Flash Memory | F5: 512MB
A6: Hard Disk Drive | F6: 2 x 3.5" SATA 6Gb/s 3TB
A7: Hard Disk Tray | F7: 2 x Hot swappable tray
A8: LAN | F8: 2 x Gigabit RJ-45
A9: Indicatori LED | F9: Power, Status, LAN, USB, HDD1, HDD2
A10: USB/eSATA | F10: 3 x USB 3.0, 1 x eSATA
A11: Alarm Buzzer | F11: System warning
A12: Peso al netto dei dischi | F12: Max 1.3 kg
A13: Ventole | F13: 1 x quiet cooling fan (7 cm, 12V DC)
A14: Certificazioni | F14: FCC, CE, BSMI, VCCI, C-TICK
A16: INGRAM | B16: QNAP TS-231
A17: SIELTE | B17: QNAP TS-231
A18: SERVIZI INFORMATICI | B18: QNAP TS-231
A20: Torna indietro

Sheet HDFM
A1: Hard Disk esterno Fascia Media (USB) - CARATTERISTICHE TECNICHE MINIME
A2: Tipo | H2: Hard disk - esterno ( portatile )
A3: Capacità | H3: 1 TB
A4: Interfaccia | H4: USB 3.0
A5: Velocità di trasferimento dati | H5: 5.0 Gbps (USB 3.0)
A6: Caratteristiche | H6: Codifica hardware, compatibile con Apple Time Machine, formattato HFS+
A7: Alimentazione | H7: Bus USB, senza alimentatore esterno
A8: Peso | H8: Max 170 g
A11: INGRAM | B11: Western Digital Mypassport for Mac
A12: SIELTE | B12: G-Technology G-DRIVE Mobile
A13: SERVIZI INFORMATICI | B13: Toshiba Canvio Slim for Mac® - 2.5”
A17: Torna indietro

Sheet HD SSD
A1: Hard Disk portatile SSD - CARATTERISTICHE TECNICHE MINIME
A2: Capacità | I2: 250 GB
A3: Crittografia hardware | I3: Sì
A4: Encryption Algorithm | I4: 256 bit AES
A5: Interfaccia | I5: USB 3.0
A6: Velocità di trasferimento dati | I6: 5.0 Gbps (USB 3.0) / 480 Mbps (USB 2.0)
A7: Caratteristiche | I7: Resistente agli urti, smorzamento vibrazioni, conformità UASP (USB Attached SCSI Protocol), 3D V-NAND Technology, TurboWrite Technology , 256 bit AES
A8: Alimentazione | I8: Bus USB
A9: Dimensioni (LxPxH) | I9: 6 cm x 8 cm x 10 cm
A10: Peso | I10: Max 30 g
A12: Certificazione | I12: CE, FCC, UL, TUV, CB
A15: INGRAM | B15: Samsung Portable SSD T3
A16: SIELTE | B16: Samsung Portable SSD T3
A17: SERVIZI INFORMATICI | B17: Samsung MU-PT250B/EU
A19: Torna indietro

Sheet Monitor PC
A1: Monitor per PC - CARATTERISTICHE TECNICHE MINIME
A2: Tipo | F2: Monitor LCD IPS, retroilluminazione a LED
A3: Dimensione display (diagonale) | F3: 23"
A4: Proporzioni | F4: Wide screen a schermo piatto 16:9
A5: Risoluzione | F5: 1.920 x 1.080 a 60hz
A6: Pixel pitch | F6: 0,265 mm
A7: Luminosità | F7: 250 cd/m²
A8: Livello di contrasto | F8: 1000:1 tipico, 20.000.000:1 dinamico
A9: Tempo di risposta | F9: 7 ms tipico
A10: Dispositivi integrati | F10: Altoparlanti, Ingresso audio PC, Uscita cuffia 3 porte USB 2.0 (cavo USB incluso) Webcam 2 megapixel con microfono Regolazione dell’altezza e dell’inclinazione Sensore di presenza
A11: Segnale di ingresso | F11: 1 VGA, 1 DVI-D, 1 DisplayPort (inclusi 1 cavo VGA, 1 Cavo DP, 1 cavo DVI)
A12: Conformità e standard | F12: Energy Star 5.0, EPEAT Gold, TCO Edge, RoHS
A14: INGRAM | B14: PHILIPS 241B7QPJKEB 23.8”
A15: SIELTE | B15: Lenovo ThinkVision T2424z
A16: SERVIZI INFORMATICI | B16: Philips LCD 231P4QPYKEB
A18: Torna indietro

Sheet Notebook 15 OSX
A1: Notebook 15" con sistema operativo OS X - CARATTERISTICHE TECNICHE MINIME
A2: Schermo | C2: Schermo retina 15.4”
A3: Processore | C3: Top di gamma (il più performante) del modello di notebook offerto
A4: RAM | C4: 16GB
A5: Hard Disk | C5: Flash Drive 1TB
A6: Sistema operativo | C6: OSX ‘El Capitan’ o superiore
A7: Tastiera | C7: Tastiera retroilluminata
A8: Mouse | C8: Superficie Multi-Touch ultraliscia con supporto per i gesti di base
A9: Adattatori | C9: Adattatore Thunderbolt-Gigabit Ethernet Apple, Adattatore Mini DisplayPort-VGA, Adattatore Mini DisplayPort-DVI, superdrive usb
A12: INGRAM | B12: Apple MacBook Pro 15,4" Retina | G12: INTEL i7 - QUAD CORE 2,8 GHZ
A13: SIELTE | B13: Apple MacBook Pro 15,4” con Touch Bar | G13: INTEL i7 - QUAD CORE 3,1 GHZ
A14: SERVIZI INFORMATICI | B14: Apple MacBook Pro 15,4" Retina | G14: INTEL i7 - QUAD CORE 3,1 GHZ
A16: Torna indietro

Sheet Notebook 13 OSX
A1: Notebook 13"con sistema operativo OS X - CARATTERISTICHE TECNICHE MINIME
A2: Schermo | C2: Schermo retina 13.3”
A3: Processore | C3: Top di gamma (il più performante) del modello di notebook offerto
A4: RAM | C4: 16GB
A5: Hard Disk | C5: Flash Drive 1TB
A6: Sistema operativo | C6: OSX ‘El Capitan’ o superiore
A7: Tastiera | C7: Tastiera retroilluminata
A8: Mouse | C8: Superficie Multi-Touch ultraliscia con supporto per i gesti di base
A9: Adattatori | C9: Adattatore Thunderbolt-Gigabit Ethernet Apple, Adattatore Mini DisplayPort-VGA, Adattatore Mini DisplayPort-DVI, superdrive usb
A10: Peso | C10: Circa 1.6 kg
A12: INGRAM | B12: MacBook Pro 13,3" Retina | G12: INTEL i7 - DUAL CORE 3,1GHz
A13: SIELTE | B13: MacBook Pro 13,3” con Touch Bar | G13: INTEL i7 - QUAD CORE 3,5GHz
A14: SERVIZI INFORMATICI | B14: MacBook Pro 13,3" Retina | G14: INTEL i7 DUAL CORE 3.5Ghz
A16: Torna indietro

Sheet Notebook FA
A1: Notebook Fascia Alta - CARATTERISTICHE TECNICHE MINIME
A2: Sistema Operativo | K2: Microsoft Windows 10 Pro 64-bit
A3: Processore | K3: Top di gamma (il più performante) del modello di notebook offerto
A4: RAM | K4: Almeno 20 GB
A5: Hard disk drive | K5: SSD SATA III, 512 GB
A6: Interfacce | K6: 1 x DC-in, 2 x USB 3.0 total, 1 x HDMI, 1 x Ethernet (RJ-45), 1 x Docking connector per Port Replicator, 1 x SIM card slot, 1 slot per memory card
A7: Altre funzionalità | K7: Lettore smartcard, tastiera italiana retroilluminata, NFC
A8: Display | K8: 13.3", LED backlight, (WQHD), Glare IGZO touch display
A9: Grafica | K9: HD
A10: Camera | K10: Built-in webcam (HD)
A11: Peso base (privo di accessori) | K11: Max 1.3 kg
A12: Dimensioni (W x D x H) | K12: 325 x 225 x 27 mm
A13: batteria | K13: 6 celle, 77Wh
... A19: Certificazioni | K19: Epeat Gold
A22: INGRAM | B22: HP EliteBook 830 G5 | E22: INTEL i7-8650U 1,9 GHz up to 4,20 GHz (Gen 8)
A23: SIELTE | B23: Lenovo Thinkpad T470s | E23: INTEL i7 -7600U
A24: SERVIZI INFORMATICI | B24: Dell Latitude 7370 | E24: Intel Core m7-6Y75 Processor (4M Cache, up to 3.10 GHz)
A27: Torna indietro

Sheet Notebook FB
A1: Notebook Fascia Bassa - CARATTERISTICHE TECNICHE MINIME
A2: Sistema operativo | H2: Microsoft Windows 7 Professional 64-bit
A3: Processore | H3: Mobilemark 2012 OFFICE PRODUCTIVITY > 80
A4: RAM | H4: 4 GB
A5: Storage principale | H5: 500 GB (5400 rpm)
A6: Unità ottica | H6: DVD RW
A7: Display | H7: retroilluminato a LED HD (1.366 x 768) da 15,6" antiriflesso
A8: Scheda grafica | H8: Integrata HD
A9: Webcam | H9: Integrata
A10: Wireless | H10: 802.11ac + Bluetooth 4.0, Dual Band 2.4&5 GHz
A11: Interfaccia di rete | H11: Gigabit Ethernet
A12: Batteria | H12: 4 celle 40 Wh
A13: Interfacce | H13: VGA, Jack combinato per cuffia/ microfono, LAN, 1 x USB 3.0, 2 USB 2.0
... A16: Certificazioni | H16: EPEAT Silver
A18: INGRAM | B18: Dell Vostro 3568 | E18: INTEL i3 - 6006U 2GHz
A19: SIELTE | B19: Lenovo V510 | E19: INTEL i3 - 6006 (3M Cache, 2,30 Ghz)
A20: SERVIZI INFORMATICI | B20: Dell Vostro 3568 | E20: 7th Generation Intel(R) Core(TM) i5-7200U Processor (3M Cache, up to 3.1 GHz)
A22: Torna indietro

Sheet Notebook FM
A1: Notebook Fascia Media - CARATTERISTICHE TECNICHE MINIME
A2: Sistema operativo | E2: Microsoft Windows 7 Professional 64 (disponibile tramite diritti di downgrade da Windows 10 Pro 64 o da Windows 8 Pro 64)
A3: Processore | E3: Mobilemark 2012 OFFICE PRODUCTIVITY > 80
A4: Memoria | E4: 8 GB
A5: Schermo | E5: 15,6" antiriflesso HD retroilluminato a LED
A6: Interfaccia di rete | E6: Ethernet (10/100/1000), Wireless Combo 802.11b/g/n (1x1) e Bluetooth 4.0
A7: Porte | E7: 2 USB 3.0, 1 USB 2.0, 1 HDMI, 1 cuffia, 1 microfono, 1 alimentatore CA, 1 RJ- 45, 1 VGA
A8: Unità disco | E8: SATA almeno 500GB (5400 rpm)
A9: Unità ottica | E9: DVD+/-RW integrato, non esterno
A10: Grafica | E10: HD
A11: Dispositivo di puntamento | E11: Touchpad con supporto dei gesti, pulsante on/off, scorrimento bidirezionale, supporto di tocchi e gesti e pinch to zoom
A12: Fotocamera integrata | E12: Webcam HD
A13: Gestione della sicurezza | E13: BIOS Protection, TPM Embedded Security Chip
... A15: Certificazioni | E15: Epeat Gold
A18: INGRAM | B18: HP Notebook 250 G6 | F18: INTEL i3 - 7020U 2,3GHz (Gen 7)
A19: SIELTE | B19: Lenovo V510 | F19: INTEL i3 - 6006 (3M Cache, 2,30 Ghz)
A20: SERVIZI INFORMATICI | B20: Lenovo ThinkPad E570 | F20: INTEL Core i5-7200U 3.1Ghz
A22: Torna indietro

Sheet Notebook FT
A1: Notebook Fascia Top - CARATTERISTICHE TECNICHE MINIME
A2: Sistema operativo | G2: Microsoft Windows 7 Professional 64-bit
A3: Processore | G3: Parametri minimi clock 2.5Ghz, 4 cores, 6MB cache L3, GPU integrata, processo costruttivo a 22 nmroot
A4: RAM | G4: 16 GB
A5: Storage principale | G5: 750 GB Sata
A6: Unità ottica | G6: DVD±RW (±R DL) / DVD-RAM
A7: Tipo | G7: 17.3" 16:9 Retroilluminazione a LED,antiriflesso, 1920 x 1080 ( Full HD )
A8: Scheda grafica | G8: Dedicata con 4 GB GDDR5 SDRAM
A9: Webcam | G9: HD
A10: Wireless | G10: Bluetooth 4.0, 802.11ac dual band
A11: Interfaccia di rete | G11: Gigabit Ethernet
A12: Batteria | G12: a lunga durata
A13: Interfacce | G13: VGA, DisplayPort, Thunderbolt,Jack combinato per cuffia/ microfono, LAN, 3 x USB 3.0, 1 x USB 2.0
... A17: Certificazioni | G17: EPEAT Gold
A20: INGRAM | B20: HP Zbook 17 G3 Mobile Workstation | G20: INTEL i7- 6700 HQ 2,6 GHz
A21: SIELTE | B21: Lenovo ThinkPad P71 Workstation | G21: INTEL i7 - 7700HQ (6MB Cache, up to 3.80GHz )
A22: SERVIZI INFORMATICI | B22: Dell Mobile Precision 7720 CTO | G22: INTEL i5-7300HQ
A24: Torna indietro

Sheet PCAOSX21,5
A1: Personal Computer All-in-one con monitor da 21,5" - CARATTERISTICHE TECNICHE MINIME
A2: Schermo | C2: Schermo retina 4k da 21,5"
A3: Processore | C3: Almeno quad-core a 3,3GHz
A4: RAM | C4: 16GB
A5: Hard Disk | C5: Fusion Drive da 1TB
A6: Porte | C6: 4 porte USB 3, 2 porte Thunderbolt, Uscita Mini DisplayPort, Gigabit Ethernet
A7: Tastiera | C7: Tastiera di dimensioni regolari con 79 tasti (ISO), compresi 12 tasti funzione e 4 tasti freccia
A8: Mouse | C8: Superficie Multi-Touch ultraliscia con supporto per i gesti di base
A9: Wireless | C9: Wi-Fi 802.11ac
A10: Sistema Operativo | C10: OS X
A13: INGRAM | B13: Apple iMac 21,5" | E13: INTEL i7 - QUAD CORE 3,6 GHz
A14: SIELTE | B14: Apple iMac 21,5" | E14: INTEL i5 - QUAD CORE 3,4 GHz
A15: SERVIZI INFORMATICI | B15: Apple iMac 21,5" | E15: INTEL i5 - QUAD CORE 3,4 GHz
A19: Torna indietro

Sheet PCAOSX27
A1: Personal Computer All-in-one con monitor da 27" - CARATTERISTICHE TECNICHE MINIME
A2: Schermo | C2: Schermo retina 5k da 27"
A3: Processore | C3: Almeno quad-core 4GHz
A4: RAM | C4: 16GB
A5: Hard Disk | C5: Fusion Drive da 1TB
A6: Scheda video | C6: 2GB di memoria GDDR5
A7: Webcam | C7: HD
A8: Porte | C8: 4 porte USB 3, 2 porte Thunderbolt, Uscita Mini DisplayPort, Gigabit Ethernet
A9: Tastiera | C9: Tastiera di dimensioni regolari con 79 tasti (ISO), compresi 12 tasti funzione e 4 tasti freccia
A10: Mouse | C10: Superficie Multi-Touch ultraliscia con supporto per i gesti di base
A11: Wireless | C11: Wi-Fi 802.11ac
A12: Sistema Operativo | C12: OS X
A15: INGRAM | B15: Apple iMac 27" | D15: INTEL i7 - QUAD CORE 4,2 GHz
A16: SIELTE | B16: Apple iMac 27" | D16: INTEL i7 - QUAD CORE 4,2 GHz
A17: SERVIZI INFORMATICI | B17: Apple iMac 27" | D17: INTEL i7 - QUAD CORE 4,2 GHz
A22: Torna indietro

Sheet SCAN A4
A1: Scanner A4 - CARATTERISTICHE TECNICHE MINIME
A2: Tecnologia | J2: Due sensori immagini CCD a colori
A3: Modalità di scansione | J3: Solo fronte, Fronte/retro, Colore, Scala di grigi, Monocromatiche
A4: Modalità alimentazione documenti | J4: ADF
A5: Capacità ADF | J5: 80 pagine di grammatura 80g/mq
A6: Dimensioni documenti Min/max ADF | J6: A8/A4
A7: Risoluzione in uscita | J7: 50-600 dpi (con incrementi di 1 dpi), 1.200 dpi
A8: Risoluzione scansione a 60ppm | J8: fogli A4 a 300 dpi a colori, in bianco e nero e a scala di grigi
A9: Velocità solo fronte | J9: 60 pagine al minuto
A10: Velocità Fronte retro | J10: 120ipm
A11: Interfaccia | J11: USB 3.0
A12: Peso max | J12: 5 kg
A13: Dimensioni max (LxPxH) per l'unità base | J13: 30x20x20 cm
... A17: Certificazioni | J17: ENERGY STAR
A20: INGRAM | B20: Fujitsu FI-7160
A21: SIELTE | B21: Fujitsu FI-7160
A22: SERVIZI INFORMATICI | B22: Fujitsu FI-7160
A26: Torna indietro

Sheet Schermo
A1: Schermo proiezione - CARATTERISTICHE TECNICHE MINIME
A2: Tipologia di telo | B2: Specifico per proiezione frontale, proiezione su treppiedi 150x150cm
A3: Aspetto del telo | B3: Bianco ottico
A4: Superficie di proiezione | B4: Lavorata tipo "pebbled" per una migliore resa
A5: Composizione telo | B5: Supporto interno in fibra di vetro, strutturalmente indeformabile
A6: Angolo di visione | B6: Fino a 160°
A7: Retro nero | B7: Si, 100% oscurante
A8: Ingnifugo | B8: Si, in classe B1
A9: Lavabile | B9: Si
A10: Esente da cadmio | B10: Si
A11: Accessori | B11: Borsa morbida opzionale per il trasporto
A14: INGRAM | B14: Provis su treppiedi 150x150
A15: SIELTE | B15: Provis S05055
A16: SERVIZI INFORMATICI | B16: McDigit S05055
A18: Torna indietro

Sheet SmartAndroid
A1: Smartphone Android - CARATTERISTICHE TECNICHE MINIME
A2: Larghezza max | E2: 75 mm
A3: Profondità max | E3: 7 mm
A4: Altezza max | E4: 145 mm
A5: Peso max | E5: 135 g
A6: Valore SAR | E6: 0, 59 W/ kg (corpo) / 0, 47 W/ kg (testa)
A7: Banda | E7: UMTS / GSM / LTE
A8: Sistema operativo | E8: Android
A9: Tipo scheda SIM | E9: Nano SIM
A10: Trasmissione dati | E10: GPRS, EDGE, HSDPA, LTE
A11: Interfaccia wireless | E11: NFC, Bluetooth 4.1, IEEE 802.11a/ ac/ b/ g/ n
A12: Sensori | E12: Accelerometro, Barometro, Sensore impronte digitali, Giroscopio, Campo magnetico, Sensore di prossimità, Sensore di luminosità
A13: Dispositivi di sicurezza | E13: Lettore di impronte digitali
... A22: Accessori | E22: Cover protettiva dello stesso brand dello smartphone
A25: INGRAM | B25: Samsung G930 Galaxy S7 Smartphone 32 GB + 32GB MicroSD
A26: SIELTE | B26: Samsung Galaxy S7
A27: SERVIZI INFORMATICI | B27: Samsung Galaxy S7
A30: Torna indietro

Sheet SMART-IOS
A1: Smartphone iOS - CARATTERISTICHE TECNICHE MINIME
A2: Protezione | E2: Resistente alla polvere, impermeabile
A3: Larghezza max | E3: 68 mm
A4: Profondità max | E4: 7,5 mm
A5: Altezza max | E5: 140 mm
A6: Peso max | E6: 145 g
A7: Banda | E7: UMTS, GSM, EDGE, LE
A8: Sistema operativo | E8: iOS 9
A9: Tipo scheda SIM | E9: nano SIM
A10: Interfaccia wireless | E10: Wi-Fi 802.11a/b/g/n/ac con tecnologia MIMO, Tecnologia wireless Bluetooth 4.2, NFC
A11: Sensori | E11: Sensore di impronte digitali Touch ID, Barometro, Giroscopio a 3 assi, Accelerometro, Sensore di prossimità, Sensore di luce ambientale
A12: Dispositivi di sicurezza | E12: Lettore di impronte digitali
A13: Processore | E13: Architettura a 64 bit
... A17: Accessori | E17: Cover protettiva dello stesso brand dello smartphone
A20: INGRAM | B20: Apple iPhone 6S Silver 128GB
A21: SIELTE | B21: Apple iPhone 6S Silver 128GB
A22: SERVIZI INFORMATICI | B22: Apple iPhone 6S Silver 128GB
A24: Torna indietro

Sheet SMART-Win
A1: Smartphone Windows - CARATTERISTICHE TECNICHE MINIME
A2: Sistema operativo | H2: Windows Phone 8.1
A3: Peso max | H3: 170 gr
A4: dimensioni max | H4: Lungh. 140 mm; Largh. 80 mm; spess. 10 mm
A5: Display | H5: 5" Full HD (1920x1080) 441 ppi, GorillaGlass 3
A6: Sensori | H6: Sensore di illuminazione ambientale, Accelerometro, Sensore di prossimità per lo spegnimento automatico dello schermo durante le chiamate, Giroscopio, Magnetometro
A7: Memoria | H7: interna 32GB; RAM 2 GB; memory card 64GB (inclusa)
A8: Batteria | H8: autonomia in conversazione 17 ore
A9: Processore | H9: Quad core 2200Mhz
A10: Connettività | H10: Audio 3.5 mm, micro USB, USB 2.0, Bluetooth, NFC, WIFI 802.11 a/b/g/n/ac
A11: Rete cellulare | H11: GSM, LTE
A12: GPS | H12: A-GLONASS, A-GPS, BeiDou
A13: Fotocamera principale | H13: 20 MP, flash dual led
... A16: Accessori | H16: Cover protettiva dello stesso brand dello smartphone
A19: INGRAM | B19: HP Inc. Elite X3
A20: SIELTE | B20: Nokia Lumia 950
A21: SERVIZI INFORMATICI | B21: ACER LIQUID JADE PRIMO
A23: Torna indietro

Sheet Ultrabook 12
A1: Staccabile (ultrabook) 12" - CARATTERISTICHE TECNICHE MINIME
A2: Dimensioni | H2: 295mm x 205mm x 9mm
A3: Peso | H3: Max 800 grammi
A4: Schermo | H4: Schermo: circa 12 pollici, Risoluzione: 2736 x 1824, Touchscreen con input multitocco
A5: Durata della batteria | H5: Fino a 9 ore di riproduzione video
A6: Spazio di archiviazione2/RAM | H6: 512 GB SSD/16 GB di RAM
A7: Processore | H7: Top di gamma (il più performante) del modello offerto
A8: Rete | H8: Wireless: Wi-Fi 802.11ac, Bluetooth 4.0
A9: Sensori | H9: Luce ambientale, Accelerometro, Giroscopio
A10: Porte | H10: USB 3.0 full-size, Lettore di schede microSD, Connettore jack per cuffie, Mini DisplayPort, Porta per cover
A11: Sistema operativo | H11: Microsoft Windows 10 Pro
A12: Webcam | H12: Webcam posteriore da 8 megapixel, Webcam anteriore da 5 megapixel
A13: Accessori | H13: Penna, cover/tastiera nera con aggancio magnetico, Dock, tutti dello stesso brand del computer; adattatore multiport 3in1 da minidisplayport a HDMI/VGA/DVI; Masterizzatore DVD esterno USB con peso max 0,3 kg
A16: INGRAM | B16: Microsoft Surface Pro | F16: INTEL DUAL CORE i7 (Gen 7) 7660U 2,5GHz
A17: SIELTE | B17: Microsoft Surface Pro | F17: INTEL DUAL CORE i7 (Gen 7) 7660U 2,5GHz
A18: SERVIZI INFORMATICI | B18: Dell Latitude 7285 | F18: Intel Core i7-7Y75 (Dual Core, 3.6 GHz, 4M Cache, 4.5W, vPro )
A21: Torna indietro

Sheet Stamp A4BN
A1: Stampante InkJet A4 B/N - CARATTERISTICHE TECNICHE MINIME
A2: Classe dimensione supporto | J2: A4/ Legal
A3: Max dimensione supporto | J3: Legal (216 x 356 mm), A4 (210 x 297 mm)
A4: Velocità di stampa | J4: Fino a 34 ppm - B/ N
J5: Fino a 20 ppm - B/ N (ISO/ IEC 24734) Fino a 11 ppm - duplex B/ N (ISO/ IEC 24734) - A4 (210 x 297 mm)
A6: Risoluzione massima (B/N) | J6: 1200 x 2400 dpi
A7: Stampa automatica fronte- retro | J7: Sì
A8: Interfaccia | J8: USB 2.0, Gigabit LAN, Wi-Fi
A9: Fronte Retro | J9: Automatico
A10: Emulazione linguaggio | J10: PCL 5E, PCL 5C, PostScript 3, PCL 6
A11: Tipo supporto | J11: Buste, carta comune, carta spessa
A12: Capacità totale | J12: Almeno 330 fogli
A13: Trattamento supporti di stampa | J13: Cassetto d'ingresso per 250 fogli, vassoio multiuso da 80 fogli
A14: Produttività mensile (max) | J14: 35000 pagine
A15: Supporto driver | J15: Microsoft Windows XP, Vista, 7, 8, 10 (32/64 bit), Apple MacOS X 10.5.8 o succ.
A16: Dimensioni (LxPxH) orientative | J16: Circa 46 cm x 42 cm x 28 cm
A17: Standard ambientali | J17: ENERGY STAR
A20: INGRAM | B20: Epson WorkForce Pro WF-M5190DW
A21: SIELTE | B21: Epson WorkForce Pro WF-M5190DW
A22: SERVIZI INFORMATICI | B22: Epson WorkForce Pro WF-M5190DW
A24: Torna indietro

Sheet Stamp las A4
A1: Stampante Laser A4 Colori - CARATTERISTICHE TECNICHE MINIME
A2: Sistemi operativi compatibili | K2: Mac OS X 10.6 Snow Leopard, OS X 10.7 e successivi
A3: Velocità del processore | K3: 800 MHz
A4: Vassoi carta, standard | K4: 2
A5: Linguaggi di stampa | K5: PCL 6, PCL 5, Postscript
A6: Tecnologia di stampa | K6: Laser
A7: Stampa diretta supportata | K7: Stampa da porta USB
A8: Stampa fronte/retro | K8: Automatica
A9: Ciclo operativo (mensile, A4) | K9: Fino a 120.000 pagine
A10: Capacità di alimentazione | K10: Fino a 600 fogli
A11: Capacità massima di output (fogli) | K11: Fino a 500 fogli
A12: Grammatura supporti di stampa consigliata (duplex) | K12: da 60 a 120 g/m² (carta comune)
A13: Dimensioni dei supporti standard (duplex) | K13: A4, A5, B5
A14: Dimensioni supporti utilizzabili | K14: Vassoio multifunzione: A4, A5, A6, B5, B6, buste, Vassoi di alimentazione da 500 fogli: A4, A5, B5
A15: Dimensioni supporti, vassoio 1 | K15: A4, A5, A6, B5, B6, buste, cartolina
A16: Dimensioni supporti, vassoio 2 | K16: A4, A5, B5
... A31: Peso | K31: Circa 40 kg
A33: INGRAM | B33: HP Color LaserJet Enterprise M651DN
A34: SIELTE | B34: HP Color LaserJet Enterprise M652dn
A35: SERVIZI INFORMATICI | B35: HP Color LaserJet Enterprise M651DN
A36: Torna indietro

Sheet Stamp Las A3 C
A1: Stampante Laser Colori f/r A3 - CARATTERISTICHE TECNICHE MINIME
A2: Sistemi operativi compatibili | L2: Windows 8, Windows 7, Windows Vista, Windows XP Professional
A3: Processore | L3: 540 MHz
A4: Stampa fronte/retro | L4: Automatica (standard)
A5: Ciclo operativo (mensile, A4) | L5: Fino a 75.000 pagine
A6: Vassoi carta, standard | L6: 2
A7: Linguaggi di stampa | L7: PCL 6
A8: Tecnologia di stampa | L8: Laser
A9: Ingresso gestione carta, standard | L9: Vassoio multifunzione da 100 fogli, vassoio da 250 fogli
A10: Uscita gestione carta, standard | L10: 250 fogli
A11: Grammatura supporti di stampa consigliata (duplex) | L11: Fino a 120 g/m² (carte comuni)
A12: Dimensioni supporti utilizzabili | L12: A3, A4, A5, A6, RA3, SRA3, B4, B5
A13: Velocità di stampa in b/n (normale, A3) | L13: 10 ppm
A14: Velocità di stampa in b/n (normale, A4) | L14: 20 ppm
A15: Velocità di stampa a colori (normale, A3) | L15: 10 ppm
A16: Velocità di stampa a colori (normale, A4) | L16: 20 ppm
A17: Stampa della prima pagina in b/n (A4) | L17: < 16 secondi (da "pronta")
A18: Stampa della prima pagina a colori (A4) | L18: < 17 secondi (da "pronta")
... A25: Cartucce aggiuntive | L25: Set aggiuntivo di Toner originali per le 4 colorazioni con resa di almeno 7000 pagine
A28: INGRAM | B28: HP Color LserJet Professional CP5225DN
A29: SIELTE | B29: HP Color LserJet Professional CP5225DN
A30: SERVIZI INFORMATICI | B30: HP Color LserJet Professional CP5225DN
A33: Torna indietro

Sheet Stamp Laser A3BN
A1: Stampante laser multifunzione B/N A3 - CARATTERISTICHE TECNICHE MINIME
A2: Funzioni principali disponibili | K2: Stampa, copia, scansione a colori (standard di rete e USB)
A3: Velocità di stampa (bianco e nero) | K3: 22 ppm (A4), 11 ppm (A3)
A4: Metodo di stampa | K4: Stampa laser in bianco e nero
A5: Risoluzione di stampa | K5: 600 dpi x 600 dpi
A6: Stampa fronte retro | K6: automatica
A7: Ingresso carta (standard) | K7: 1 cassetto da 250 fogli (80 g/m²), vassoio multifunzione da 80 fogli (80 g/m²)
A8: Capacità massima carta in ingresso | K8: Almeno 500 fogli (80 g/m²)
A9: Capacità carta in uscita | K9: Almeno 50 fogli (80 g/m²)
A10: Funzioni di finitura | K10: Standard: fascicolazione
A11: Tipi di supporti compatibili | K11: Carta comune, riciclata, colorata, pesante e preperforata
A12: Formati carta supportati | K12: A3, A4, A5, B4, B5, Legal, Letter
A13: Grammature carta supportate | K13: Cassetti: da 64 a 90 g/m²; Vassoio multifunzione: da 64 a 128 g/m²
... A26: toner | K26: Resa toner 10.200 pagine
A29: INGRAM | B29: Toshiba e-Studio2309a
A30: SIELTE | B30: Canon imageRUNNER 2204F
A31: SERVIZI INFORMATICI | B31: Canon imageRUNNER 2204F
A33: Torna indietro

Sheet Tab Android
A1: Tablet Android - CARATTERISTICHE TECNICHE MINIME
A2: Tipo scheda SIM | I2: Nano-SIM
A3: Tipo rete | I3: 2G GSM, 3G UMTS, 4G LTE FDD
A4: Versione USB | I4: USB 2.0
A5: Tecnologia di localizzazione | I5: GPS, Glonass
A6: Ingresso per auricolari stereo | I6: 3.5mm Stereo
A7: Wi-Fi | I7: 802.11 a/b/g/n/ac 2.4G+5GHz, VHT80 MIMO
A8: Versione Bluetooth | I8: Bluetooth v4.1
A9: Sistema Operativo | I9: Android
A10: Tecnologia Schermo | I10: Super AMOLED
A11: Dimensioni Schermo | I11: 9.7"
A12: Risoluzione Schermo | I12: 2048 x 1536 (QXGA)
A13: Velocità CPU | I13: 1.9GHz, 1.3GHz
... A20: Sensori | I20: Accelerometro, Sensore impronte digitali, Giroscopio, Campo magnetico, Sensore Hall, Sensore RGB
A21: Peso (g) | I21: 400
A22: SAR corpo | I22: 0.885 W/Kg
A24: INGRAM | B24: Samsung Galaxy TAB S2 | F24: OCTA CORE 1,9GHZ
A25: SIELTE | B25: Samsung Galaxy TAB S2 | F25: OCTA CORE 1,9GHZ
A26: SERVIZI INFORMATICI | B26: Samsung Galaxy TAB S2 | F26: Quad 1.8 GHz + Quad 1.4 GHz Qualcomm MSM 8976
A28: Torna indietro | M28: 2

Sheet TAB IOS
A1: Tablet iOS - CARATTERISTICHE TECNICHE MINIME
A2: Sistema operativo | E2: iOS 9
A3: Tipo | E3: 12.9" retina
A4: Risoluzione | E4: 2732 x 2048 ( 264 ppi )
A5: Touchscreen | E5: Multi touch
A6: Caratteristiche | E6: Rivestimento oleorepellente a prova di impronte Display a laminazione completa Rivestimento antiriflesso
A7: Processore | E7: Apple A9x 64bit
A8: Memoria | E8: 128 GB
A9: Connettività | E9: Wi-Fi (802.11a/b/g/n/ac); doppio canale (2,4GHz e 5GHz); Bluetooth 4.2, UMTS/HSPA/HSPA+/DC-HSDPA,GSM/EDGE, CDMA EV-DO Rev. A e Rev. B (800, 1900 MHz), LTE
A10: Videocamera posteriore | E10: 8 Megapixel
A11: Videocamera anteriore | E11: 1, 2 Megapixel
A12: Audio | E12: Due microfoni , altoparlante
A14: Batteria | E14: Polimero di litio
... A16: Peso | E16: 730 g
A18: INGRAM | B18: Apple iPad Pro 12.9” | E18: APPLE A9X 64bit
A19: SIELTE | B19: Apple iPad Pro 12.9” | E19: APPLE A10X 64bit
A20: SERVIZI INFORMATICI | B20: Apple iPad Pro 12.9” | E20: Apple A10x 64bit
A22: Torna indietro

Sheet VideoPr
A1: Videoproiettore per computer - CARATTERISTICHE TECNICHE MINIME
A2: Luminosità | F2: 4000 lumen
A3: Rapporto di contrasto | F3: 2000:1
A4: Dimensioni immagine | F4: 76 cm - 762 cm
A5: Distanza proiezione | F5: 0.91 m - 15.4 m
A6: Risoluzione | F6: WXGA - WXGA (1280 x 800)
A7: Rapporto d'aspetto nativo | F7: Widescreen
A8: Formato display | F8: 1.280 x 800
A9: Ciclo di vita lampada | F9: 3500 ore (modalità economica)
A10: Direzione correzione distorsione trapezoidale | F10: Verticale
A11: Interfacce video | F11: VGA, composite video, S-Video
A12: Protocolli trasferimento immagini LAN e Wireless | F12: LAN su filo
A13: Audio | F13: Altoparlante integrato
... A17: Peso | F17: Max 3.5 kg
A20: INGRAM | B20: Epson EB-2140W
A21: SIELTE | B21: Epson EB-2140W
A22: SERVIZI INFORMATICI | B22: BENQ MW727
A23: Torna indietro

Sheet VideoPrP
A1: Videoproiettore portatile - CARATTERISTICHE TECNICHE MINIME
A2: Tipo di dispositivo | F2: Proiettore 3LCD
A3: Rete | F3: 802.11b/ g/ n
A4: Luminosità | F4: 3000 lumen
A5: Rapporto di contrasto | F5: 2000:1
A6: Dimensioni immagine | F6: 76 cm - 762 cm
A7: Distanza proiezione | F7: 0.7 m - 8.2 m
A8: Rapporto corsa | F8: 1.04 - 1.26:1
A9: Risoluzione | F9: WXGA (1280 x 800)
A10: Rapporto d'aspetto nativo | F10: Widescreen
A11: Ciclo di vita lampada in | F11: 4000 ore
A12: Apertura lente | F12: F/ 1.58-1.7
A13: Fattore di zoom | F13: 1.2x
... A20: Peso | F20: 1.71 kg
A23: INGRAM | B23: Epson EB-1785W
A24: SIELTE | B24: Epson EB-1781W
A25: SERVIZI INFORMATICI | B25: EPSON EB-1776W
A29: Torna indietro

Sheet Foglio1
